BEGIN:VCALENDAR
VERSION:2.0
PRODID:-//Langebaan Country Estate - ECPv6.15.20//NONSGML v1.0//EN
CALSCALE:GREGORIAN
METHOD:PUBLISH
X-ORIGINAL-URL:https://langebaanestate.co.za
X-WR-CALDESC:Events for Langebaan Country Estate
REFRESH-INTERVAL;VALUE=DURATION:PT1H
X-Robots-Tag:noindex
X-PUBLISHED-TTL:PT1H
BEGIN:VTIMEZONE
TZID:Africa/Johannesburg
BEGIN:STANDARD
TZOFFSETFROM:+0200
TZOFFSETTO:+0200
TZNAME:SAST
DTSTART:20200101T000000
END:STANDARD
END:VTIMEZONE
BEGIN:VEVENT
DTSTART;VALUE=DATE:20211201
DTEND;VALUE=DATE:20211202
DTSTAMP:20260421T043706
CREATED:20211128T143909Z
LAST-MODIFIED:20211128T163150Z
UID:19349-1638316800-1638403199@langebaanestate.co.za
SUMMARY:LCE Weekly Menu
DESCRIPTION:LCE Weekly Menu : \nThis week we are open for Sit Down in our Horizon Restaurant Monday to Friday from 12h00 – 21h00. \nOpen to the Public for Takeaways\, delivery available on DigiDude | Collection | FREE Delivery on the Estate \nBooking Essential – To book your table or place order for collection or delivery  022 772 2112 \nThank you for your continuous support ! \nPLEASE NOTE : \nLCE CLUB CHAMPS – 04th & 05th of December 2021 \nOur Saturday Night Burger Special is available for Delivery & Collection Only \nOur Horizon Restaurant is CLOSED on the 05th of December 2021 for Sunday Lunch.  Sitdown\, takeaway\, delivery & collection will not be available.   \nWe apologise for any inconvenience caused \n  \n 
URL:https://langebaanestate.co.za/event/lce-weekly-menu-87/
LOCATION:Langebaan Country Estate – Golf Course
END:VEVENT
BEGIN:VEVENT
DTSTART;VALUE=DATE:20211201
DTEND;VALUE=DATE:20211202
DTSTAMP:20260421T043706
CREATED:20211128T161635Z
LAST-MODIFIED:20211128T161635Z
UID:19375-1638316800-1638403199@langebaanestate.co.za
SUMMARY:REMINDER - PARKRUN - Every Saturday
DESCRIPTION:REMINDER – Our Parkrun is back in action every Saturday – 08h00 \n 
URL:https://langebaanestate.co.za/event/reminder-parkrun-every-saturday-12/
LOCATION:Langebaan Country Estate – Golf Course
END:VEVENT
BEGIN:VEVENT
DTSTART;VALUE=DATE:20211202
DTEND;VALUE=DATE:20211203
DTSTAMP:20260421T043706
CREATED:20211128T143935Z
LAST-MODIFIED:20211128T163227Z
UID:19351-1638403200-1638489599@langebaanestate.co.za
SUMMARY:LCE Weekly Menu
DESCRIPTION:LCE Weekly Menu : \nThis week we are open for Sit Down in our Horizon Restaurant Monday to Friday from 12h00 – 21h00. \nOpen to the Public for Takeaways\, delivery available on DigiDude | Collection | FREE Delivery on the Estate \nBooking Essential – To book your table or place order for collection or delivery  022 772 2112 \nThank you for your continuous support ! \nPLEASE NOTE : \nLCE CLUB CHAMPS – 04th & 05th of December 2021 \nOur Saturday Night Burger Special is available for Delivery & Collection Only \nOur Horizon Restaurant is CLOSED on the 05th of December 2021 for Sunday Lunch.  Sitdown\, takeaway\, delivery & collection will not be available.   \nWe apologise for any inconvenience caused \n  \n 
URL:https://langebaanestate.co.za/event/lce-weekly-menu-88/
LOCATION:Langebaan Country Estate – Golf Course
END:VEVENT
BEGIN:VEVENT
DTSTART;VALUE=DATE:20211203
DTEND;VALUE=DATE:20211204
DTSTAMP:20260421T043706
CREATED:20211121T135923Z
LAST-MODIFIED:20211121T142712Z
UID:19305-1638489600-1638575999@langebaanestate.co.za
SUMMARY:CHRISTMAS EVE DINNER - Friday - 24 December 2021
DESCRIPTION:Christmas Eve Dinner – Friday – 24 December 2021  \nFeast yourself this Christmas with us at LCE – we are open for Sit Down in our Horizon Restaurant for Christmas Eve Dinner from 18h00 – 21h00 \nDon’t miss out\, bookings are essential & going quickly – To book your table   022 772 2112 \n🎄🎁🎄🎁
URL:https://langebaanestate.co.za/event/christmas-eve-dinner-friday-24-december-2021-4/
LOCATION:Langebaan Country Estate – Golf Course
END:VEVENT
BEGIN:VEVENT
DTSTART;VALUE=DATE:20211203
DTEND;VALUE=DATE:20211204
DTSTAMP:20260421T043706
CREATED:20211202T140337Z
LAST-MODIFIED:20211202T140337Z
UID:19405-1638489600-1638575999@langebaanestate.co.za
SUMMARY:BINGO EVENING
DESCRIPTION:Please support LAC & join us for a fun filled night of BINGO\n\n\n\n* Thursday – 09 December 2021 at 18h30\n* Venue : Langebaan Country Estate – Horizon Restaurant\n* RSVP – by the 07 December 2021 – 082 441 2585\n\n\n\n#bingovibes #LCEsupport #LACsupport #wearyourmask #deliciousfood #westcoastvibe #bingo\n\n  \n \n  \n  \n  \n 
URL:https://langebaanestate.co.za/event/bingo-evening-11/
LOCATION:Langebaan Country Estate – Golf Course
END:VEVENT
BEGIN:VEVENT
DTSTART;VALUE=DATE:20211203
DTEND;VALUE=DATE:20211204
DTSTAMP:20260421T043706
CREATED:20211204T141508Z
LAST-MODIFIED:20211204T141508Z
UID:19424-1638489600-1638575999@langebaanestate.co.za
SUMMARY:PIZZA NIGHT | LCE Weekly Menu
DESCRIPTION:PIZZA NIGHT \nLCE WEEKLY MENU \nThis week we are open for Sit Down in our Horizon Restaurant Monday to Friday from 12h00 – 21h00. \nOpen to the Public for Takeaways\, delivery available on DigiDude | Collection | FREE Delivery on the Estate \nBooking Essential – To book your table or place order for collection or delivery  022 772 2112 \nThank you for your continuous support ! \nPLEASE NOTE : \nLCE CLUB CHAMPS – 04th & 05th of December 2021 \nOur Saturday Night Burger Special is available for Delivery & Collection Only \nOur Horizon Restaurant is CLOSED on the 05th of December 2021 for Sunday Lunch.  Sitdown\, takeaway\, delivery & collection will not be available.   \nWe apologise for any inconvenience caused \n  \n  \n 
URL:https://langebaanestate.co.za/event/pizza-night-lce-weekly-menu-16/
LOCATION:Langebaan Country Estate – Golf Course
END:VEVENT
BEGIN:VEVENT
DTSTART;VALUE=DATE:20211204
DTEND;VALUE=DATE:20211205
DTSTAMP:20260421T043706
CREATED:20211128T161011Z
LAST-MODIFIED:20211128T163336Z
UID:19367-1638576000-1638662399@langebaanestate.co.za
SUMMARY:BURGER NIGHT | LCE Weekly Menu
DESCRIPTION:BURGER SPECIAL – Buy 1 Get 1 FREE Burger Special – Beef | Chicken available (served with Fries) \nBURGER NIGHT \n \nLCE WEEKLY MENU \n \nLCE Weekly Menu : \nThis week we are open for Sit Down in our Horizon Restaurant Monday to Friday from 12h00 – 21h00. \nOpen to the Public for Takeaways\, delivery available on DigiDude | Collection | FREE Delivery on the Estate \nBooking Essential – To book your table or place order for collection or delivery  022 772 2112 \nThank you for your continuous support ! \nPLEASE NOTE : \nLCE CLUB CHAMPS – 04th & 05th of December 2021 \nOur Saturday Night Burger Special is available for Delivery & Collection Only \nOur Horizon Restaurant is CLOSED on the 05th of December 2021 for Sunday Lunch.  Sitdown\, takeaway\, delivery & collection will not be available.   \nWe apologise for any inconvenience caused
URL:https://langebaanestate.co.za/event/burger-night-lce-weekly-menu-9/
LOCATION:Langebaan Country Estate – Golf Course
END:VEVENT
BEGIN:VEVENT
DTSTART;VALUE=DATE:20211204
DTEND;VALUE=DATE:20211205
DTSTAMP:20260421T043706
CREATED:20211128T161423Z
LAST-MODIFIED:20211128T161423Z
UID:19369-1638576000-1638662399@langebaanestate.co.za
SUMMARY:REMINDER - PARKRUN - Every Saturday
DESCRIPTION:REMINDER – Our Parkrun is back in action every Saturday – 08h00 \n 
URL:https://langebaanestate.co.za/event/reminder-parkrun-every-saturday-9/
LOCATION:Langebaan Country Estate – Golf Course
END:VEVENT
BEGIN:VEVENT
DTSTART;VALUE=DATE:20211205
DTEND;VALUE=DATE:20211206
DTSTAMP:20260421T043706
CREATED:20211128T160519Z
LAST-MODIFIED:20211128T163605Z
UID:19363-1638662400-1638748799@langebaanestate.co.za
SUMMARY:LCE Weekly Menu
DESCRIPTION:LCE Weekly Menu : \nThis week we are open for Sit Down in our Horizon Restaurant Monday to Friday from 12h00 – 21h00. \nOpen to the Public for Takeaways\, delivery available on DigiDude | Collection | FREE Delivery on the Estate \nBooking Essential – To book your table or place order for collection or delivery  022 772 2112 \nThank you for your continuous support ! \nPLEASE NOTE : \nLCE CLUB CHAMPS – 04th & 05th of December 2021 \nOur Saturday Night Burger Special is available for Delivery & Collection Only \nOur Horizon Restaurant is CLOSED on the 05th of December 2021 for Sunday Lunch.  Sitdown\, takeaway\, delivery & collection will not be available.   \nWe apologise for any inconvenience caused \n  \n 
URL:https://langebaanestate.co.za/event/lce-weekly-menu-89/
LOCATION:Langebaan Country Estate – Golf Course
END:VEVENT
BEGIN:VEVENT
DTSTART;VALUE=DATE:20211205
DTEND;VALUE=DATE:20211206
DTSTAMP:20260421T043706
CREATED:20211202T140410Z
LAST-MODIFIED:20211202T140410Z
UID:19407-1638662400-1638748799@langebaanestate.co.za
SUMMARY:BINGO EVENING
DESCRIPTION:Please support LAC & join us for a fun filled night of BINGO\n\n\n\n* Thursday – 09 December 2021 at 18h30\n* Venue : Langebaan Country Estate – Horizon Restaurant\n* RSVP – by the 07 December 2021 – 082 441 2585\n\n\n\n#bingovibes #LCEsupport #LACsupport #wearyourmask #deliciousfood #westcoastvibe #bingo\n\n  \n \n  \n  \n  \n 
URL:https://langebaanestate.co.za/event/bingo-evening-12/
LOCATION:Langebaan Country Estate – Golf Course
END:VEVENT
BEGIN:VEVENT
DTSTART;VALUE=DATE:20211206
DTEND;VALUE=DATE:20211207
DTSTAMP:20260421T043706
CREATED:20211121T140013Z
LAST-MODIFIED:20211121T142754Z
UID:19308-1638748800-1638835199@langebaanestate.co.za
SUMMARY:CHRISTMAS EVE DINNER - Friday - 24 December 2021
DESCRIPTION:Christmas Eve Dinner – Friday – 24 December 2021  \nFeast yourself this Christmas with us at LCE – we are open for Sit Down in our Horizon Restaurant for Christmas Eve Dinner from 18h00 – 21h00 \nDon’t miss out\, bookings are essential & going quickly – To book your table   022 772 2112 \n🎄🎁🎄🎁
URL:https://langebaanestate.co.za/event/christmas-eve-dinner-friday-24-december-2021-5/
LOCATION:Langebaan Country Estate – Golf Course
END:VEVENT
BEGIN:VEVENT
DTSTART;VALUE=DATE:20211206
DTEND;VALUE=DATE:20211207
DTSTAMP:20260421T043706
CREATED:20211128T161513Z
LAST-MODIFIED:20211128T161513Z
UID:19371-1638748800-1638835199@langebaanestate.co.za
SUMMARY:REMINDER - PARKRUN - Every Saturday
DESCRIPTION:REMINDER – Our Parkrun is back in action every Saturday – 08h00 \n 
URL:https://langebaanestate.co.za/event/reminder-parkrun-every-saturday-10/
LOCATION:Langebaan Country Estate – Golf Course
END:VEVENT
BEGIN:VEVENT
DTSTART;VALUE=DATE:20211206
DTEND;VALUE=DATE:20211207
DTSTAMP:20260421T043706
CREATED:20211204T140626Z
LAST-MODIFIED:20211204T143844Z
UID:19414-1638748800-1638835199@langebaanestate.co.za
SUMMARY:LCE Weekly Menu
DESCRIPTION:LCE Weekly Menu  \nThe LCE Horizon Restaurant \nOpen daily for sit-down from 12h00 until : \n19h00 on Mon | Tues | Thurs \n21h00 on Wed | Fri | Sat \n15h00 on Sun \nFREE Delivery on the Estate | Takeaway | Collection \nOpen to the Public | Delivery available on DigiDude \n12h00 – 18h00 on Mon | Tues | Wed | Thurs \n12h00 – 20h00 on Fri | Sat \n12h00 – 15h00 on Sun \nOur Blaze Bar will be open daily for you to enjoy a drink or two \n(not for sale to persons under the age of 18) \nAll Covid 19 Protocols are in place for your safety. \nFRIENDLY REMINDER : No Mask😷🚫 No Entry😷🚫 \nBooking Essential – To book your table or place order for collection or delivery  022 772 2112 \nThank you for your continuous support !
URL:https://langebaanestate.co.za/event/lce-weekly-menu-90/
LOCATION:Langebaan Country Estate – Golf Course
END:VEVENT
BEGIN:VEVENT
DTSTART;VALUE=DATE:20211207
DTEND;VALUE=DATE:20211208
DTSTAMP:20260421T043706
CREATED:20211202T140726Z
LAST-MODIFIED:20211202T140726Z
UID:19409-1638835200-1638921599@langebaanestate.co.za
SUMMARY:BINGO EVENING
DESCRIPTION:Please support LAC & join us for a fun filled night of BINGO\n\n\n\n* Thursday – 09 December 2021 at 18h30\n* Venue : Langebaan Country Estate – Horizon Restaurant\n* RSVP – by the 07 December 2021 – 082 441 2585\n\n\n\n#bingovibes #LCEsupport #LACsupport #wearyourmask #deliciousfood #westcoastvibe #bingo\n\n  \n \n  \n  \n  \n 
URL:https://langebaanestate.co.za/event/bingo-evening-13/
LOCATION:Langebaan Country Estate – Golf Course
END:VEVENT
BEGIN:VEVENT
DTSTART;VALUE=DATE:20211207
DTEND;VALUE=DATE:20211208
DTSTAMP:20260421T043706
CREATED:20211204T140702Z
LAST-MODIFIED:20211204T143906Z
UID:19417-1638835200-1638921599@langebaanestate.co.za
SUMMARY:LCE Weekly Menu
DESCRIPTION:LCE Weekly Menu  \nThe LCE Horizon Restaurant \nOpen daily for sit-down from 12h00 until : \n19h00 on Mon | Tues | Thurs \n21h00 on Wed | Fri | Sat \n15h00 on Sun \nFREE Delivery on the Estate | Takeaway | Collection \nOpen to the Public | Delivery available on DigiDude \n12h00 – 18h00 on Mon | Tues | Wed | Thurs \n12h00 – 20h00 on Fri | Sat \n12h00 – 15h00 on Sun \nOur Blaze Bar will be open daily for you to enjoy a drink or two \n(not for sale to persons under the age of 18) \nAll Covid 19 Protocols are in place for your safety. \nFRIENDLY REMINDER : No Mask😷🚫 No Entry😷🚫 \nBooking Essential – To book your table or place order for collection or delivery  022 772 2112 \nThank you for your continuous support !
URL:https://langebaanestate.co.za/event/lce-weekly-menu-91/
LOCATION:Langebaan Country Estate – Golf Course
END:VEVENT
BEGIN:VEVENT
DTSTART;VALUE=DATE:20211208
DTEND;VALUE=DATE:20211209
DTSTAMP:20260421T043706
CREATED:20211128T161721Z
LAST-MODIFIED:20211128T161721Z
UID:19377-1638921600-1639007999@langebaanestate.co.za
SUMMARY:REMINDER - PARKRUN - Every Saturday
DESCRIPTION:REMINDER – Our Parkrun is back in action every Saturday – 08h00 \n 
URL:https://langebaanestate.co.za/event/reminder-parkrun-every-saturday-13/
LOCATION:Langebaan Country Estate – Golf Course
END:VEVENT
BEGIN:VEVENT
DTSTART;VALUE=DATE:20211208
DTEND;VALUE=DATE:20211209
DTSTAMP:20260421T043706
CREATED:20211204T140732Z
LAST-MODIFIED:20211204T143933Z
UID:19419-1638921600-1639007999@langebaanestate.co.za
SUMMARY:LCE Weekly Menu
DESCRIPTION:LCE Weekly Menu  \nThe LCE Horizon Restaurant \nOpen daily for sit-down from 12h00 until : \n19h00 on Mon | Tues | Thurs \n21h00 on Wed | Fri | Sat \n15h00 on Sun \nFREE Delivery on the Estate | Takeaway | Collection \nOpen to the Public | Delivery available on DigiDude \n12h00 – 18h00 on Mon | Tues | Wed | Thurs \n12h00 – 20h00 on Fri | Sat \n12h00 – 15h00 on Sun \nOur Blaze Bar will be open daily for you to enjoy a drink or two \n(not for sale to persons under the age of 18) \nAll Covid 19 Protocols are in place for your safety. \nFRIENDLY REMINDER : No Mask😷🚫 No Entry😷🚫 \nBooking Essential – To book your table or place order for collection or delivery  022 772 2112 \nThank you for your continuous support !
URL:https://langebaanestate.co.za/event/lce-weekly-menu-92/
LOCATION:Langebaan Country Estate – Golf Course
END:VEVENT
BEGIN:VEVENT
DTSTART;VALUE=DATE:20211209
DTEND;VALUE=DATE:20211210
DTSTAMP:20260421T043706
CREATED:20211202T140834Z
LAST-MODIFIED:20211202T140834Z
UID:19411-1639008000-1639094399@langebaanestate.co.za
SUMMARY:BINGO EVENING
DESCRIPTION:Please support LAC & join us for a fun filled night of BINGO\n\n\n\n* Thursday – 09 December 2021 at 18h30\n* Venue : Langebaan Country Estate – Horizon Restaurant\n* RSVP – by the 07 December 2021 – 082 441 2585\n\n\n\n#bingovibes #LCEsupport #LACsupport #wearyourmask #deliciousfood #westcoastvibe #bingo\n\n  \n \n  \n  \n  \n 
URL:https://langebaanestate.co.za/event/bingo-evening-14/
LOCATION:Langebaan Country Estate – Golf Course
END:VEVENT
BEGIN:VEVENT
DTSTART;VALUE=DATE:20211209
DTEND;VALUE=DATE:20211210
DTSTAMP:20260421T043706
CREATED:20211204T141400Z
LAST-MODIFIED:20211204T144008Z
UID:19421-1639008000-1639094399@langebaanestate.co.za
SUMMARY:LCE Weekly Menu
DESCRIPTION:LCE Weekly Menu  \nThe LCE Horizon Restaurant \nOpen daily for sit-down from 12h00 until : \n19h00 on Mon | Tues | Thurs \n21h00 on Wed | Fri | Sat \n15h00 on Sun \nFREE Delivery on the Estate | Takeaway | Collection \nOpen to the Public | Delivery available on DigiDude \n12h00 – 18h00 on Mon | Tues | Wed | Thurs \n12h00 – 20h00 on Fri | Sat \n12h00 – 15h00 on Sun \nOur Blaze Bar will be open daily for you to enjoy a drink or two \n(not for sale to persons under the age of 18) \nAll Covid 19 Protocols are in place for your safety. \nFRIENDLY REMINDER : No Mask😷🚫 No Entry😷🚫 \nBooking Essential – To book your table or place order for collection or delivery  022 772 2112 \nThank you for your continuous support !
URL:https://langebaanestate.co.za/event/lce-weekly-menu-93/
LOCATION:Langebaan Country Estate – Golf Course
END:VEVENT
BEGIN:VEVENT
DTSTART;VALUE=DATE:20211210
DTEND;VALUE=DATE:20211211
DTSTAMP:20260421T043706
CREATED:20211121T140243Z
LAST-MODIFIED:20211121T142824Z
UID:19310-1639094400-1639180799@langebaanestate.co.za
SUMMARY:CHRISTMAS EVE DINNER - Friday - 24 December 2021
DESCRIPTION:Christmas Eve Dinner – Friday – 24 December 2021  \nFeast yourself this Christmas with us at LCE – we are open for Sit Down in our Horizon Restaurant for Christmas Eve Dinner from 18h00 – 21h00 \nDon’t miss out\, bookings are essential & going quickly – To book your table   022 772 2112 \n🎄🎁🎄🎁
URL:https://langebaanestate.co.za/event/christmas-eve-dinner-friday-24-december-2021-6/
LOCATION:Langebaan Country Estate – Golf Course
END:VEVENT
BEGIN:VEVENT
DTSTART;VALUE=DATE:20211210
DTEND;VALUE=DATE:20211211
DTSTAMP:20260421T043706
CREATED:20211128T160750Z
LAST-MODIFIED:20211204T144040Z
UID:19365-1639094400-1639180799@langebaanestate.co.za
SUMMARY:PIZZA NIGHT | LCE Weekly Menu
DESCRIPTION:PIZZA NIGHT \n \nLCE WEEKLY MENU \n \nLCE Weekly Menu  \nThe LCE Horizon Restaurant \nOpen daily for sit-down from 12h00 until : \n19h00 on Mon | Tues | Thurs \n21h00 on Wed | Fri | Sat \n15h00 on Sun \nFREE Delivery on the Estate | Takeaway | Collection \nOpen to the Public | Delivery available on DigiDude \n12h00 – 18h00 on Mon | Tues | Wed | Thurs \n12h00 – 20h00 on Fri | Sat \n12h00 – 15h00 on Sun \nOur Blaze Bar will be open daily for you to enjoy a drink or two \n(not for sale to persons under the age of 18) \nAll Covid 19 Protocols are in place for your safety. \nFRIENDLY REMINDER : No Mask😷🚫 No Entry😷🚫 \nBooking Essential – To book your table or place order for collection or delivery  022 772 2112 \nThank you for your continuous support !
URL:https://langebaanestate.co.za/event/pizza-night-lce-weekly-menu-15/
LOCATION:Langebaan Country Estate – Golf Course
END:VEVENT
BEGIN:VEVENT
DTSTART;VALUE=DATE:20211211
DTEND;VALUE=DATE:20211212
DTSTAMP:20260421T043706
CREATED:20211128T161604Z
LAST-MODIFIED:20211128T161604Z
UID:19373-1639180800-1639267199@langebaanestate.co.za
SUMMARY:REMINDER - PARKRUN - Every Saturday
DESCRIPTION:REMINDER – Our Parkrun is back in action every Saturday – 08h00 \n 
URL:https://langebaanestate.co.za/event/reminder-parkrun-every-saturday-11/
LOCATION:Langebaan Country Estate – Golf Course
END:VEVENT
BEGIN:VEVENT
DTSTART;VALUE=DATE:20211211
DTEND;VALUE=DATE:20211212
DTSTAMP:20260421T043706
CREATED:20211204T141833Z
LAST-MODIFIED:20211204T144113Z
UID:19428-1639180800-1639267199@langebaanestate.co.za
SUMMARY:BURGER NIGHT | LCE Weekly Menu
DESCRIPTION:BURGER SPECIAL – Buy 1 Get 1 FREE Burger Special – Beef | Chicken available (served with Fries) \nBURGER NIGHT \n \nLCE WEEKLY MENU \n \nLCE Weekly Menu  \nThe LCE Horizon Restaurant \nOpen daily for sit-down from 12h00 until : \n19h00 on Mon | Tues | Thurs \n21h00 on Wed | Fri | Sat \n15h00 on Sun \nFREE Delivery on the Estate | Takeaway | Collection \nOpen to the Public | Delivery available on DigiDude \n12h00 – 18h00 on Mon | Tues | Wed | Thurs \n12h00 – 20h00 on Fri | Sat \n12h00 – 15h00 on Sun \nOur Blaze Bar will be open daily for you to enjoy a drink or two \n(not for sale to persons under the age of 18) \nAll Covid 19 Protocols are in place for your safety. \nFRIENDLY REMINDER : No Mask😷🚫 No Entry😷🚫 \nBooking Essential – To book your table or place order for collection or delivery  022 772 2112 \nThank you for your continuous support !
URL:https://langebaanestate.co.za/event/burger-night-lce-weekly-menu-10/
LOCATION:Langebaan Country Estate – Golf Course
END:VEVENT
BEGIN:VEVENT
DTSTART;VALUE=DATE:20211212
DTEND;VALUE=DATE:20211213
DTSTAMP:20260421T043706
CREATED:20211204T141920Z
LAST-MODIFIED:20211204T144135Z
UID:19430-1639267200-1639353599@langebaanestate.co.za
SUMMARY:LCE Weekly Menu
DESCRIPTION:LCE Weekly Menu  \nThe LCE Horizon Restaurant \nOpen daily for sit-down from 12h00 until : \n19h00 on Mon | Tues | Thurs \n21h00 on Wed | Fri | Sat \n15h00 on Sun \nFREE Delivery on the Estate | Takeaway | Collection \nOpen to the Public | Delivery available on DigiDude \n12h00 – 18h00 on Mon | Tues | Wed | Thurs \n12h00 – 20h00 on Fri | Sat \n12h00 – 15h00 on Sun \nOur Blaze Bar will be open daily for you to enjoy a drink or two \n(not for sale to persons under the age of 18) \nAll Covid 19 Protocols are in place for your safety. \nFRIENDLY REMINDER : No Mask😷🚫 No Entry😷🚫 \nBooking Essential – To book your table or place order for collection or delivery  022 772 2112 \nThank you for your continuous support !
URL:https://langebaanestate.co.za/event/lce-weekly-menu-94/
LOCATION:Langebaan Country Estate – Golf Course
END:VEVENT
BEGIN:VEVENT
DTSTART;VALUE=DATE:20211213
DTEND;VALUE=DATE:20211214
DTSTAMP:20260421T043706
CREATED:20211121T140344Z
LAST-MODIFIED:20211121T142851Z
UID:19312-1639353600-1639439999@langebaanestate.co.za
SUMMARY:CHRISTMAS EVE DINNER - Friday - 24 December 2021
DESCRIPTION:Christmas Eve Dinner – Friday – 24 December 2021  \nFeast yourself this Christmas with us at LCE – we are open for Sit Down in our Horizon Restaurant for Christmas Eve Dinner from 18h00 – 21h00 \nDon’t miss out\, bookings are essential & going quickly – To book your table   022 772 2112 \n🎄🎁🎄🎁
URL:https://langebaanestate.co.za/event/christmas-eve-dinner-friday-24-december-2021-7/
LOCATION:Langebaan Country Estate – Golf Course
END:VEVENT
BEGIN:VEVENT
DTSTART;VALUE=DATE:20211213
DTEND;VALUE=DATE:20211214
DTSTAMP:20260421T043706
CREATED:20211128T161753Z
LAST-MODIFIED:20211128T161753Z
UID:19379-1639353600-1639439999@langebaanestate.co.za
SUMMARY:REMINDER - PARKRUN - Every Saturday
DESCRIPTION:REMINDER – Our Parkrun is back in action every Saturday – 08h00 \n 
URL:https://langebaanestate.co.za/event/reminder-parkrun-every-saturday-14/
LOCATION:Langebaan Country Estate – Golf Course
END:VEVENT
BEGIN:VEVENT
DTSTART;VALUE=DATE:20211213
DTEND;VALUE=DATE:20211214
DTSTAMP:20260421T043706
CREATED:20211212T092531Z
LAST-MODIFIED:20211212T092531Z
UID:19454-1639353600-1639439999@langebaanestate.co.za
SUMMARY:LCE Weekly Menu
DESCRIPTION:LCE Weekly Menu  \n \nSunday Lunch Menu \n \nThe LCE Horizon Restaurant \nOpen Monday to Thursday for sit-down from 12h00 until 20h30 | Friday & Saturday from 12h00 until 21h00 | Sunday from 12h00 until 15h00 \nFREE Delivery on the Estate | Takeaway | Collection \nOpen to the Public | Delivery available on DigiDude \n12h00 – 19h00 on Mon | Tues | Wed | Thurs \n12h00 – 20h00 on Fri | Sat \n12h00 – 15h00 on Sun \nOur Blaze Bar will be open daily for you to enjoy a drink or two \n(not for sale to persons under the age of 18) \nAll Covid 19 Protocols are in place for your safety. \nKindly adhere to the Covid 19 Rules & Regulations : No Mask😷🚫 No Entry😷🚫 \nBooking Essential – To book your table or place order for collection or delivery  022 772 2112 \nThank you for your continuous support !
URL:https://langebaanestate.co.za/event/lce-weekly-menu-95/
LOCATION:Langebaan Country Estate – Golf Course
END:VEVENT
BEGIN:VEVENT
DTSTART;VALUE=DATE:20211213
DTEND;VALUE=DATE:20211214
DTSTAMP:20260421T043706
CREATED:20211212T093726Z
LAST-MODIFIED:20211212T093726Z
UID:19469-1639353600-1639439999@langebaanestate.co.za
SUMMARY:Breakfast Menu
DESCRIPTION:Breakfast is Served ! \n \nThe LCE Horizon Restaurant \nOur Breakfast Menu is available daily from 08h30 until 11h00 \nOpen to the Public \nAll Covid 19 Protocols are in place for your safety. \nKindly adhere to the Covid 19 Rules & Regulations : No Mask😷🚫 No Entry😷🚫 \nBooking Essential – To book your table or place order for collection or delivery  022 772 2112 \nThank you for your continuous support !
URL:https://langebaanestate.co.za/event/breakfast-menu/
LOCATION:Langebaan Country Estate – Golf Course
END:VEVENT
BEGIN:VEVENT
DTSTART;VALUE=DATE:20211214
DTEND;VALUE=DATE:20211215
DTSTAMP:20260421T043706
CREATED:20211212T092606Z
LAST-MODIFIED:20211212T092606Z
UID:19456-1639440000-1639526399@langebaanestate.co.za
SUMMARY:LCE Weekly Menu
DESCRIPTION:LCE Weekly Menu  \n \nSunday Lunch Menu \n \nThe LCE Horizon Restaurant \nOpen Monday to Thursday for sit-down from 12h00 until 20h30 | Friday & Saturday from 12h00 until 21h00 | Sunday from 12h00 until 15h00 \nFREE Delivery on the Estate | Takeaway | Collection \nOpen to the Public | Delivery available on DigiDude \n12h00 – 19h00 on Mon | Tues | Wed | Thurs \n12h00 – 20h00 on Fri | Sat \n12h00 – 15h00 on Sun \nOur Blaze Bar will be open daily for you to enjoy a drink or two \n(not for sale to persons under the age of 18) \nAll Covid 19 Protocols are in place for your safety. \nKindly adhere to the Covid 19 Rules & Regulations : No Mask😷🚫 No Entry😷🚫 \nBooking Essential – To book your table or place order for collection or delivery  022 772 2112 \nThank you for your continuous support !
URL:https://langebaanestate.co.za/event/lce-weekly-menu-96/
LOCATION:Langebaan Country Estate – Golf Course
END:VEVENT
BEGIN:VEVENT
DTSTART;VALUE=DATE:20211214
DTEND;VALUE=DATE:20211215
DTSTAMP:20260421T043706
CREATED:20211212T093821Z
LAST-MODIFIED:20211212T093821Z
UID:19471-1639440000-1639526399@langebaanestate.co.za
SUMMARY:Breakfast Menu
DESCRIPTION:Breakfast is Served ! \n \nThe LCE Horizon Restaurant \nOur Breakfast Menu is available daily from 08h30 until 11h00 \nOpen to the Public \nAll Covid 19 Protocols are in place for your safety. \nKindly adhere to the Covid 19 Rules & Regulations : No Mask😷🚫 No Entry😷🚫 \nBooking Essential – To book your table or place order for collection or delivery  022 772 2112 \nThank you for your continuous support !
URL:https://langebaanestate.co.za/event/breakfast-menu-2/
LOCATION:Langebaan Country Estate – Golf Course
END:VEVENT
END:VCALENDAR