BEGIN:VCALENDAR
VERSION:2.0
PRODID:-//Langebaan Country Estate - ECPv6.15.20//NONSGML v1.0//EN
CALSCALE:GREGORIAN
METHOD:PUBLISH
X-WR-CALNAME:Langebaan Country Estate
X-ORIGINAL-URL:https://langebaanestate.co.za
X-WR-CALDESC:Events for Langebaan Country Estate
REFRESH-INTERVAL;VALUE=DURATION:PT1H
X-Robots-Tag:noindex
X-PUBLISHED-TTL:PT1H
BEGIN:VTIMEZONE
TZID:Africa/Johannesburg
BEGIN:STANDARD
TZOFFSETFROM:+0200
TZOFFSETTO:+0200
TZNAME:SAST
DTSTART:20200101T000000
END:STANDARD
END:VTIMEZONE
BEGIN:VEVENT
DTSTART;VALUE=DATE:20211101
DTEND;VALUE=DATE:20211102
DTSTAMP:20260421T145012
CREATED:20211028T134637Z
LAST-MODIFIED:20211028T134637Z
UID:19111-1635724800-1635811199@langebaanestate.co.za
SUMMARY:LCE Weekly Menu
DESCRIPTION:LCE Weekly Menu – We are open for Sit Down in our Horizon Restaurant every Wednesday & Friday from 17h30 – 21h00 & Sunday Lunch from 12h00 – 15h00. \nOpen to the Public for Takeaways\, delivery available on DigiDude | Collection | FREE Delivery on the Estate – Monday\, Tuesday\, Wednesday & Thursday from 12h00 – 18h00  |  Friday & Saturday from 12h00 – 20h00 | Sunday from 12h00 – 15h00 \nBooking Essential – To book your table or place order for collection or delivery  022 772 2112 \nThank you for your continuous support !
URL:https://langebaanestate.co.za/event/lce-weekly-menu-65/
LOCATION:Langebaan Country Estate – Golf Course
END:VEVENT
BEGIN:VEVENT
DTSTART;VALUE=DATE:20211101
DTEND;VALUE=DATE:20211102
DTSTAMP:20260421T145012
CREATED:20211028T140351Z
LAST-MODIFIED:20211028T142832Z
UID:19125-1635724800-1635811199@langebaanestate.co.za
SUMMARY:UPCOMING EVENT - LCE MTB  Club - MTB FUN RIDE
DESCRIPTION:UPCOMING EVENT – LCE MTB Club – MTB FUN RIDE \nPlease Note :  NO MASK\, NO ENTRY \nAll Covid-19 Protocols to please be adhered to at all times !
URL:https://langebaanestate.co.za/event/upcoming-lce-mtb-club-mtb-fun-ride/
LOCATION:Langebaan Country Estate – Golf Course
END:VEVENT
BEGIN:VEVENT
DTSTART;VALUE=DATE:20211101
DTEND;VALUE=DATE:20211102
DTSTAMP:20260421T145012
CREATED:20211028T143505Z
LAST-MODIFIED:20211028T143505Z
UID:19139-1635724800-1635811199@langebaanestate.co.za
SUMMARY:UPCOMING EVENTS - Ladies Golf Coaching Sessions
DESCRIPTION:UPCOMING EVENTS – Ladies Golf Coaching Sessions \nPlease Note :  NO MASK\, NO ENTRY \nAll Covid-19 Protocols to please be adhered to at all times !
URL:https://langebaanestate.co.za/event/upcoming-events-ladies-golf-coaching-sessions/
LOCATION:Langebaan Country Estate – Golf Course
END:VEVENT
BEGIN:VEVENT
DTSTART;VALUE=DATE:20211101
DTEND;VALUE=DATE:20211102
DTSTAMP:20260421T145012
CREATED:20211028T144427Z
LAST-MODIFIED:20211031T154812Z
UID:19157-1635724800-1635811199@langebaanestate.co.za
SUMMARY:REMINDER - PARKRUN - Every Saturday
DESCRIPTION:REMINDER – Our Parkrun is back in action every Saturday – 08h00 \n 
URL:https://langebaanestate.co.za/event/reminder-ladies-golf-coaching-sessions-4/
LOCATION:Langebaan Country Estate – Golf Course
END:VEVENT
BEGIN:VEVENT
DTSTART;VALUE=DATE:20211102
DTEND;VALUE=DATE:20211103
DTSTAMP:20260421T145012
CREATED:20211018T085230Z
LAST-MODIFIED:20211018T085230Z
UID:19070-1635811200-1635897599@langebaanestate.co.za
SUMMARY:BOSS BREAKFAST
DESCRIPTION:***REMINDER*** \nBOSS BREAKFAST \n  \n \n  \n  \n  \n 
URL:https://langebaanestate.co.za/event/boss-breakfast-5/
LOCATION:Langebaan Country Estate – Golf Course
END:VEVENT
BEGIN:VEVENT
DTSTART;VALUE=DATE:20211102
DTEND;VALUE=DATE:20211103
DTSTAMP:20260421T145012
CREATED:20211028T134703Z
LAST-MODIFIED:20211028T134703Z
UID:19113-1635811200-1635897599@langebaanestate.co.za
SUMMARY:LCE Weekly Menu
DESCRIPTION:LCE Weekly Menu – We are open for Sit Down in our Horizon Restaurant every Wednesday & Friday from 17h30 – 21h00 & Sunday Lunch from 12h00 – 15h00. \nOpen to the Public for Takeaways\, delivery available on DigiDude | Collection | FREE Delivery on the Estate – Monday\, Tuesday\, Wednesday & Thursday from 12h00 – 18h00  |  Friday & Saturday from 12h00 – 20h00 | Sunday from 12h00 – 15h00 \nBooking Essential – To book your table or place order for collection or delivery  022 772 2112 \nThank you for your continuous support !
URL:https://langebaanestate.co.za/event/lce-weekly-menu-66/
LOCATION:Langebaan Country Estate – Golf Course
END:VEVENT
BEGIN:VEVENT
DTSTART;VALUE=DATE:20211103
DTEND;VALUE=DATE:20211104
DTSTAMP:20260421T145012
CREATED:20211028T134736Z
LAST-MODIFIED:20211028T134736Z
UID:19115-1635897600-1635983999@langebaanestate.co.za
SUMMARY:LCE Weekly Menu
DESCRIPTION:LCE Weekly Menu – We are open for Sit Down in our Horizon Restaurant every Wednesday & Friday from 17h30 – 21h00 & Sunday Lunch from 12h00 – 15h00. \nOpen to the Public for Takeaways\, delivery available on DigiDude | Collection | FREE Delivery on the Estate – Monday\, Tuesday\, Wednesday & Thursday from 12h00 – 18h00  |  Friday & Saturday from 12h00 – 20h00 | Sunday from 12h00 – 15h00 \nBooking Essential – To book your table or place order for collection or delivery  022 772 2112 \nThank you for your continuous support !
URL:https://langebaanestate.co.za/event/lce-weekly-menu-67/
LOCATION:Langebaan Country Estate – Golf Course
END:VEVENT
BEGIN:VEVENT
DTSTART;VALUE=DATE:20211104
DTEND;VALUE=DATE:20211105
DTSTAMP:20260421T145012
CREATED:20211028T134811Z
LAST-MODIFIED:20211028T134811Z
UID:19117-1635984000-1636070399@langebaanestate.co.za
SUMMARY:LCE Weekly Menu
DESCRIPTION:LCE Weekly Menu – We are open for Sit Down in our Horizon Restaurant every Wednesday & Friday from 17h30 – 21h00 & Sunday Lunch from 12h00 – 15h00. \nOpen to the Public for Takeaways\, delivery available on DigiDude | Collection | FREE Delivery on the Estate – Monday\, Tuesday\, Wednesday & Thursday from 12h00 – 18h00  |  Friday & Saturday from 12h00 – 20h00 | Sunday from 12h00 – 15h00 \nBooking Essential – To book your table or place order for collection or delivery  022 772 2112 \nThank you for your continuous support !
URL:https://langebaanestate.co.za/event/lce-weekly-menu-68/
LOCATION:Langebaan Country Estate – Golf Course
END:VEVENT
BEGIN:VEVENT
DTSTART;VALUE=DATE:20211105
DTEND;VALUE=DATE:20211106
DTSTAMP:20260421T145012
CREATED:20211028T135231Z
LAST-MODIFIED:20211028T135231Z
UID:19121-1636070400-1636156799@langebaanestate.co.za
SUMMARY:PIZZA NIGHT | LCE Weekly Menu
DESCRIPTION:PIZZA SPECIAL \nBuy 2 or more Pizza’s & receive a FREE Feta & Garlic Focaccia  \n \nPIZZA NIGHT \nLCE WEEKLY MENU \n \nLCE Weekly Menu – We are open for Sit Down in our Horizon Restaurant every Wednesday & Friday from 17h30 – 21h00 & Sunday Lunch from 12h00 – 15h00. \nOpen to the Public for Takeaways\, delivery available on DigiDude | Collection | FREE Delivery on the Estate – Monday\, Tuesday\, Wednesday & Thursday from 12h00 – 18h00  |  Friday & Saturday from 12h00 – 20h00 | Sunday from 12h00 – 15h00 \nBooking Essential – To book your table or place order for collection or delivery  022 772 2112 \nThank you for your continuous support !
URL:https://langebaanestate.co.za/event/pizza-night-lce-weekly-menu-11/
LOCATION:Langebaan Country Estate – Golf Course
END:VEVENT
BEGIN:VEVENT
DTSTART;VALUE=DATE:20211105
DTEND;VALUE=DATE:20211106
DTSTAMP:20260421T145012
CREATED:20211028T140438Z
LAST-MODIFIED:20211028T142858Z
UID:19127-1636070400-1636156799@langebaanestate.co.za
SUMMARY:UPCOMING EVENT - LCE MTB  Club - MTB FUN RIDE
DESCRIPTION:UPCOMING EVENT – LCE MTB Club – MTB FUN RIDE \nPlease Note :  NO MASK\, NO ENTRY \nAll Covid-19 Protocols to please be adhered to at all times !
URL:https://langebaanestate.co.za/event/upcoming-lce-mtb-club-mtb-fun-ride-2/
LOCATION:Langebaan Country Estate – Golf Course
END:VEVENT
BEGIN:VEVENT
DTSTART;VALUE=DATE:20211105
DTEND;VALUE=DATE:20211106
DTSTAMP:20260421T145012
CREATED:20211028T143602Z
LAST-MODIFIED:20211028T143602Z
UID:19141-1636070400-1636156799@langebaanestate.co.za
SUMMARY:UPCOMING EVENTS - Ladies Golf Coaching Sessions
DESCRIPTION:UPCOMING EVENTS – Ladies Golf Coaching Sessions \nPlease Note :  NO MASK\, NO ENTRY \nAll Covid-19 Protocols to please be adhered to at all times !
URL:https://langebaanestate.co.za/event/upcoming-events-ladies-golf-coaching-sessions-2/
LOCATION:Langebaan Country Estate – Golf Course
END:VEVENT
BEGIN:VEVENT
DTSTART;VALUE=DATE:20211105
DTEND;VALUE=DATE:20211106
DTSTAMP:20260421T145012
CREATED:20211031T154847Z
LAST-MODIFIED:20211031T154847Z
UID:19164-1636070400-1636156799@langebaanestate.co.za
SUMMARY:REMINDER - PARKRUN - Every Saturday
DESCRIPTION:REMINDER – Our Parkrun is back in action every Saturday – 08h00 \n 
URL:https://langebaanestate.co.za/event/reminder-parkrun-every-saturday/
LOCATION:Langebaan Country Estate – Golf Course
END:VEVENT
BEGIN:VEVENT
DTSTART;VALUE=DATE:20211106
DTEND;VALUE=DATE:20211107
DTSTAMP:20260421T145012
CREATED:20211028T135337Z
LAST-MODIFIED:20211028T135337Z
UID:19123-1636156800-1636243199@langebaanestate.co.za
SUMMARY:BURGER NIGHT | LCE Weekly Menu
DESCRIPTION:BURGER SPECIAL – Buy 1 Get 1 FREE Burger Special – Beef | Chicken available (served with Fries) \nBURGER NIGHT \n \nLCE WEEKLY MENU \n \nLCE Weekly Menu – We are open for Sit Down in our Horizon Restaurant every Wednesday & Friday from 17h30 – 21h00 & Sunday Lunch from 12h00 – 15h00. \nOpen to the Public for Takeaways\, delivery available on DigiDude | Collection | FREE Delivery on the Estate – Monday\, Tuesday\, Wednesday & Thursday from 12h00 – 18h00  |  Friday & Saturday from 12h00 – 20h00 | Sunday from 12h00 – 15h00 \nBooking Essential – To book your table or place order for collection or delivery  022 772 2112 \nThank you for your continuous support !
URL:https://langebaanestate.co.za/event/burger-night-lce-weekly-menu-5/
LOCATION:Langebaan Country Estate – Golf Course
END:VEVENT
BEGIN:VEVENT
DTSTART;VALUE=DATE:20211106
DTEND;VALUE=DATE:20211107
DTSTAMP:20260421T145012
CREATED:20211031T154931Z
LAST-MODIFIED:20211031T154931Z
UID:19166-1636156800-1636243199@langebaanestate.co.za
SUMMARY:PARKRUN - Every Saturday
DESCRIPTION:Our Parkrun is back in action every Saturday – 08h00 \n 
URL:https://langebaanestate.co.za/event/parkrun-every-saturday/
LOCATION:Langebaan Country Estate – Golf Course
END:VEVENT
BEGIN:VEVENT
DTSTART;VALUE=DATE:20211107
DTEND;VALUE=DATE:20211108
DTSTAMP:20260421T145012
CREATED:20211028T134858Z
LAST-MODIFIED:20211028T134858Z
UID:19119-1636243200-1636329599@langebaanestate.co.za
SUMMARY:LCE Weekly Menu
DESCRIPTION:LCE Weekly Menu – We are open for Sit Down in our Horizon Restaurant every Wednesday & Friday from 17h30 – 21h00 & Sunday Lunch from 12h00 – 15h00. \nOpen to the Public for Takeaways\, delivery available on DigiDude | Collection | FREE Delivery on the Estate – Monday\, Tuesday\, Wednesday & Thursday from 12h00 – 18h00  |  Friday & Saturday from 12h00 – 20h00 | Sunday from 12h00 – 15h00 \nBooking Essential – To book your table or place order for collection or delivery  022 772 2112 \nThank you for your continuous support !
URL:https://langebaanestate.co.za/event/lce-weekly-menu-69/
LOCATION:Langebaan Country Estate – Golf Course
END:VEVENT
BEGIN:VEVENT
DTSTART;VALUE=DATE:20211108
DTEND;VALUE=DATE:20211109
DTSTAMP:20260421T145012
CREATED:20211028T140512Z
LAST-MODIFIED:20211028T142927Z
UID:19129-1636329600-1636415999@langebaanestate.co.za
SUMMARY:UPCOMING EVENT - LCE MTB  Club - MTB FUN RIDE
DESCRIPTION:UPCOMING EVENT – LCE MTB Club – MTB FUN RIDE \nPlease Note :  NO MASK\, NO ENTRY \nAll Covid-19 Protocols to please be adhered to at all times !
URL:https://langebaanestate.co.za/event/upcoming-lce-mtb-club-mtb-fun-ride-3/
LOCATION:Langebaan Country Estate – Golf Course
END:VEVENT
BEGIN:VEVENT
DTSTART;VALUE=DATE:20211108
DTEND;VALUE=DATE:20211109
DTSTAMP:20260421T145012
CREATED:20211028T143714Z
LAST-MODIFIED:20211028T143714Z
UID:19143-1636329600-1636415999@langebaanestate.co.za
SUMMARY:UPCOMING EVENTS - Ladies Golf Coaching Sessions
DESCRIPTION:UPCOMING EVENTS – Ladies Golf Coaching Sessions \nPlease Note :  NO MASK\, NO ENTRY \nAll Covid-19 Protocols to please be adhered to at all times !
URL:https://langebaanestate.co.za/event/upcoming-events-ladies-golf-coaching-sessions-3/
LOCATION:Langebaan Country Estate – Golf Course
END:VEVENT
BEGIN:VEVENT
DTSTART;VALUE=DATE:20211108
DTEND;VALUE=DATE:20211109
DTSTAMP:20260421T145012
CREATED:20211031T155023Z
LAST-MODIFIED:20211031T155023Z
UID:19168-1636329600-1636415999@langebaanestate.co.za
SUMMARY:REMINDER - PARKRUN - Every Saturday
DESCRIPTION:REMINDER – Our Parkrun is back in action every Saturday – 08h00 \n 
URL:https://langebaanestate.co.za/event/reminder-parkrun-every-saturday-2/
LOCATION:Langebaan Country Estate – Golf Course
END:VEVENT
BEGIN:VEVENT
DTSTART;VALUE=DATE:20211108
DTEND;VALUE=DATE:20211109
DTSTAMP:20260421T145012
CREATED:20211106T111605Z
LAST-MODIFIED:20211106T111605Z
UID:19190-1636329600-1636415999@langebaanestate.co.za
SUMMARY:BINGO EVENING
DESCRIPTION:**UPCOMING EVENT** \nBINGO EVENING \nPlease join us for a fun filled night of BINGO \n\n* Thursday – 25 November 2021 at 18h30 for 19h00\n* Venue : Langebaan Country Estate – Horizon Restaurant\n* RSVP – by the 23 November 2021 – 082 441 2585\n\n  \n \n  \n  \n  \n 
URL:https://langebaanestate.co.za/event/bingo-evening-5/
LOCATION:Langebaan Country Estate – Golf Course
END:VEVENT
BEGIN:VEVENT
DTSTART;VALUE=DATE:20211108
DTEND;VALUE=DATE:20211109
DTSTAMP:20260421T145012
CREATED:20211106T183001Z
LAST-MODIFIED:20211106T183001Z
UID:19203-1636329600-1636415999@langebaanestate.co.za
SUMMARY:LCE Weekly Menu
DESCRIPTION:LCE Weekly Menu – We are open for Sit Down in our Horizon Restaurant every Wednesday & Friday from 17h30 – 21h00 & Sunday Lunch from 12h00 – 15h00. \nOpen to the Public for Takeaways\, delivery available on DigiDude | Collection | FREE Delivery on the Estate – Monday\, Tuesday\, Wednesday & Thursday from 12h00 – 18h00  |  Friday & Saturday from 12h00 – 20h00 | Sunday from 12h00 – 15h00 \nBooking Essential – To book your table or place order for collection or delivery  022 772 2112 \nThank you for your continuous support !
URL:https://langebaanestate.co.za/event/lce-weekly-menu-70/
LOCATION:Langebaan Country Estate – Golf Course
END:VEVENT
BEGIN:VEVENT
DTSTART;VALUE=DATE:20211109
DTEND;VALUE=DATE:20211110
DTSTAMP:20260421T145012
CREATED:20211106T183034Z
LAST-MODIFIED:20211106T183034Z
UID:19205-1636416000-1636502399@langebaanestate.co.za
SUMMARY:LCE Weekly Menu
DESCRIPTION:LCE Weekly Menu – We are open for Sit Down in our Horizon Restaurant every Wednesday & Friday from 17h30 – 21h00 & Sunday Lunch from 12h00 – 15h00. \nOpen to the Public for Takeaways\, delivery available on DigiDude | Collection | FREE Delivery on the Estate – Monday\, Tuesday\, Wednesday & Thursday from 12h00 – 18h00  |  Friday & Saturday from 12h00 – 20h00 | Sunday from 12h00 – 15h00 \nBooking Essential – To book your table or place order for collection or delivery  022 772 2112 \nThank you for your continuous support !
URL:https://langebaanestate.co.za/event/lce-weekly-menu-71/
LOCATION:Langebaan Country Estate – Golf Course
END:VEVENT
BEGIN:VEVENT
DTSTART;VALUE=DATE:20211110
DTEND;VALUE=DATE:20211111
DTSTAMP:20260421T145012
CREATED:20211106T183240Z
LAST-MODIFIED:20211106T183240Z
UID:19209-1636502400-1636588799@langebaanestate.co.za
SUMMARY:LCE Weekly Menu
DESCRIPTION:LCE Weekly Menu – We are open for Sit Down in our Horizon Restaurant every Wednesday & Friday from 17h30 – 21h00 & Sunday Lunch from 12h00 – 15h00. \nOpen to the Public for Takeaways\, delivery available on DigiDude | Collection | FREE Delivery on the Estate – Monday\, Tuesday\, Wednesday & Thursday from 12h00 – 18h00  |  Friday & Saturday from 12h00 – 20h00 | Sunday from 12h00 – 15h00 \nBooking Essential – To book your table or place order for collection or delivery  022 772 2112 \nThank you for your continuous support !
URL:https://langebaanestate.co.za/event/lce-weekly-menu-73/
LOCATION:Langebaan Country Estate – Golf Course
END:VEVENT
BEGIN:VEVENT
DTSTART;VALUE=DATE:20211111
DTEND;VALUE=DATE:20211112
DTSTAMP:20260421T145012
CREATED:20211106T183102Z
LAST-MODIFIED:20211106T183152Z
UID:19207-1636588800-1636675199@langebaanestate.co.za
SUMMARY:LCE Weekly Menu
DESCRIPTION:LCE Weekly Menu – We are open for Sit Down in our Horizon Restaurant every Wednesday & Friday from 17h30 – 21h00 & Sunday Lunch from 12h00 – 15h00. \nOpen to the Public for Takeaways\, delivery available on DigiDude | Collection | FREE Delivery on the Estate – Monday\, Tuesday\, Wednesday & Thursday from 12h00 – 18h00  |  Friday & Saturday from 12h00 – 20h00 | Sunday from 12h00 – 15h00 \nBooking Essential – To book your table or place order for collection or delivery  022 772 2112 \nThank you for your continuous support !
URL:https://langebaanestate.co.za/event/lce-weekly-menu-72/
LOCATION:Langebaan Country Estate – Golf Course
END:VEVENT
BEGIN:VEVENT
DTSTART;VALUE=DATE:20211112
DTEND;VALUE=DATE:20211113
DTSTAMP:20260421T145012
CREATED:20211028T140547Z
LAST-MODIFIED:20211028T142944Z
UID:19131-1636675200-1636761599@langebaanestate.co.za
SUMMARY:UPCOMING EVENT - LCE MTB  Club - MTB FUN RIDE
DESCRIPTION:UPCOMING EVENT – LCE MTB Club – MTB FUN RIDE \nPlease Note :  NO MASK\, NO ENTRY \nAll Covid-19 Protocols to please be adhered to at all times !
URL:https://langebaanestate.co.za/event/upcoming-lce-mtb-club-mtb-fun-ride-4/
LOCATION:Langebaan Country Estate – Golf Course
END:VEVENT
BEGIN:VEVENT
DTSTART;VALUE=DATE:20211112
DTEND;VALUE=DATE:20211113
DTSTAMP:20260421T145012
CREATED:20211028T143906Z
LAST-MODIFIED:20211028T143906Z
UID:19145-1636675200-1636761599@langebaanestate.co.za
SUMMARY:UPCOMING EVENTS - Ladies Golf Coaching Sessions
DESCRIPTION:UPCOMING EVENTS – Ladies Golf Coaching Sessions \nPlease Note :  NO MASK\, NO ENTRY \nAll Covid-19 Protocols to please be adhered to at all times !
URL:https://langebaanestate.co.za/event/upcoming-events-ladies-golf-coaching-sessions-4/
LOCATION:Langebaan Country Estate – Golf Course
END:VEVENT
BEGIN:VEVENT
DTSTART;VALUE=DATE:20211112
DTEND;VALUE=DATE:20211113
DTSTAMP:20260421T145012
CREATED:20211031T155048Z
LAST-MODIFIED:20211031T155048Z
UID:19170-1636675200-1636761599@langebaanestate.co.za
SUMMARY:REMINDER - PARKRUN - Every Saturday
DESCRIPTION:REMINDER – Our Parkrun is back in action every Saturday – 08h00 \n 
URL:https://langebaanestate.co.za/event/reminder-parkrun-every-saturday-3/
LOCATION:Langebaan Country Estate – Golf Course
END:VEVENT
BEGIN:VEVENT
DTSTART;VALUE=DATE:20211112
DTEND;VALUE=DATE:20211113
DTSTAMP:20260421T145012
CREATED:20211106T111643Z
LAST-MODIFIED:20211106T111643Z
UID:19192-1636675200-1636761599@langebaanestate.co.za
SUMMARY:BINGO EVENING
DESCRIPTION:**UPCOMING EVENT** \nBINGO EVENING \nPlease join us for a fun filled night of BINGO \n\n* Thursday – 25 November 2021 at 18h30 for 19h00\n* Venue : Langebaan Country Estate – Horizon Restaurant\n* RSVP – by the 23 November 2021 – 082 441 2585\n\n  \n \n  \n  \n  \n 
URL:https://langebaanestate.co.za/event/bingo-evening-6/
LOCATION:Langebaan Country Estate – Golf Course
END:VEVENT
BEGIN:VEVENT
DTSTART;VALUE=DATE:20211112
DTEND;VALUE=DATE:20211113
DTSTAMP:20260421T145012
CREATED:20211106T183655Z
LAST-MODIFIED:20211106T183655Z
UID:19213-1636675200-1636761599@langebaanestate.co.za
SUMMARY:PIZZA NIGHT | LCE Weekly Menu
DESCRIPTION:PIZZA SPECIAL \nBuy 2 or more Pizza’s & receive a FREE Feta & Garlic Focaccia  \n \nPIZZA NIGHT \nLCE WEEKLY MENU \n \nLCE Weekly Menu – We are open for Sit Down in our Horizon Restaurant every Wednesday & Friday from 17h30 – 21h00 & Sunday Lunch from 12h00 – 15h00. \nOpen to the Public for Takeaways\, delivery available on DigiDude | Collection | FREE Delivery on the Estate – Monday\, Tuesday\, Wednesday & Thursday from 12h00 – 18h00  |  Friday & Saturday from 12h00 – 20h00 | Sunday from 12h00 – 15h00 \nBooking Essential – To book your table or place order for collection or delivery  022 772 2112 \nThank you for your continuous support !
URL:https://langebaanestate.co.za/event/pizza-night-lce-weekly-menu-12/
LOCATION:Langebaan Country Estate – Golf Course
END:VEVENT
BEGIN:VEVENT
DTSTART;VALUE=DATE:20211113
DTEND;VALUE=DATE:20211114
DTSTAMP:20260421T145012
CREATED:20211031T155119Z
LAST-MODIFIED:20211031T155119Z
UID:19172-1636761600-1636847999@langebaanestate.co.za
SUMMARY:PARKRUN - Every Saturday
DESCRIPTION:Our Parkrun is back in action every Saturday – 08h00 \n 
URL:https://langebaanestate.co.za/event/parkrun-every-saturday-2/
LOCATION:Langebaan Country Estate – Golf Course
END:VEVENT
BEGIN:VEVENT
DTSTART;VALUE=DATE:20211113
DTEND;VALUE=DATE:20211114
DTSTAMP:20260421T145012
CREATED:20211106T183805Z
LAST-MODIFIED:20211113T182202Z
UID:19216-1636761600-1636847999@langebaanestate.co.za
SUMMARY:BURGER NIGHT | LCE Weekly Menu
DESCRIPTION:BURGER SPECIAL – Buy 1 Get 1 FREE Burger Special – Beef | Chicken available (served with Fries) \nBURGER NIGHT \n \nLCE WEEKLY MENU \n  \nLCE Weekly Menu – We are open for Sit Down in our Horizon Restaurant every Wednesday & Friday from 17h30 – 21h00 & Sunday Lunch from 12h00 – 15h00. \nOpen to the Public for Takeaways\, delivery available on DigiDude | Collection | FREE Delivery on the Estate – Monday\, Tuesday\, Wednesday & Thursday from 12h00 – 18h00  |  Friday & Saturday from 12h00 – 20h00 | Sunday from 12h00 – 15h00 \nBooking Essential – To book your table or place order for collection or delivery  022 772 2112 \nThank you for your continuous support !
URL:https://langebaanestate.co.za/event/burger-night-lce-weekly-menu-6/
LOCATION:Langebaan Country Estate – Golf Course
END:VEVENT
END:VCALENDAR