BEGIN:VCALENDAR
VERSION:2.0
PRODID:-//Langebaan Country Estate - ECPv6.15.20//NONSGML v1.0//EN
CALSCALE:GREGORIAN
METHOD:PUBLISH
X-WR-CALNAME:Langebaan Country Estate
X-ORIGINAL-URL:https://langebaanestate.co.za
X-WR-CALDESC:Events for Langebaan Country Estate
REFRESH-INTERVAL;VALUE=DURATION:PT1H
X-Robots-Tag:noindex
X-PUBLISHED-TTL:PT1H
BEGIN:VTIMEZONE
TZID:Africa/Johannesburg
BEGIN:STANDARD
TZOFFSETFROM:+0200
TZOFFSETTO:+0200
TZNAME:SAST
DTSTART:20200101T000000
END:STANDARD
END:VTIMEZONE
BEGIN:VEVENT
DTSTART;VALUE=DATE:20211018
DTEND;VALUE=DATE:20211019
DTSTAMP:20260423T123014
CREATED:20211018T084652Z
LAST-MODIFIED:20211018T084652Z
UID:19062-1634515200-1634601599@langebaanestate.co.za
SUMMARY:BOSS BREAKFAST
DESCRIPTION:BOSS BREAKFAST \n  \n \n  \n  \n  \n 
URL:https://langebaanestate.co.za/event/boss-breakfast/
LOCATION:Langebaan Country Estate – Golf Course
END:VEVENT
BEGIN:VEVENT
DTSTART;VALUE=DATE:20211018
DTEND;VALUE=DATE:20211019
DTSTAMP:20260423T123014
CREATED:20211018T084238Z
LAST-MODIFIED:20211018T084238Z
UID:19054-1634515200-1634601599@langebaanestate.co.za
SUMMARY:BINGO EVENING
DESCRIPTION:BINGO EVENING \nPlease join us for a fun filled night of BINGO \n\n* Thursday – 28 October 2021 at 19h00\n* Venue : Langebaan Country Estate – Horizon Restaurant\n* RSVP – by the 25 October 2021 – 082 441 2585\n\n  \n \n  \n  \n  \n 
URL:https://langebaanestate.co.za/event/bingo-evening/
LOCATION:Langebaan Country Estate – Golf Course
END:VEVENT
BEGIN:VEVENT
DTSTART;VALUE=DATE:20211018
DTEND;VALUE=DATE:20211019
DTSTAMP:20260423T123014
CREATED:20211017T125530Z
LAST-MODIFIED:20211017T125635Z
UID:19029-1634515200-1634601599@langebaanestate.co.za
SUMMARY:LCE Weekly Menu
DESCRIPTION:LCE Weekly Menu – We are open for Sit Down in our Horizon Restaurant every Wednesday & Friday from 17h30 – 21h00 & Sunday Lunch from 12h00 – 15h00. \nOpen to the Public for Takeaways\, delivery available on DigiDude | Collection | FREE Delivery on the Estate – Monday\, Tuesday\, Wednesday & Thursday from 12h00 – 18h00  |  Friday & Saturday from 12h00 – 20h00 | Sunday from 12h00 – 15h00 \nBooking Essential – To book your table or place order for collection or delivery  022 772 2112 \nThank you for your continuous support !
URL:https://langebaanestate.co.za/event/lce-weekly-menu-55/
LOCATION:Langebaan Country Estate – Golf Course
END:VEVENT
BEGIN:VEVENT
DTSTART;VALUE=DATE:20211018
DTEND;VALUE=DATE:20211019
DTSTAMP:20260423T123014
CREATED:20211001T165231Z
LAST-MODIFIED:20211001T165231Z
UID:18957-1634515200-1634601599@langebaanestate.co.za
SUMMARY:UPCOMING EVENT - LCE MTB  Club - MTB FUN RIDE
DESCRIPTION:REMINDER – LCE MTB Club – MTB FUN RIDE \nPlease Note :  NO MASK\, NO ENTRY \nAll Covid-19 Protocols to please be adhered to at all times !
URL:https://langebaanestate.co.za/event/upcoming-event-lce-mtb-club-mtb-fun-ride-11/
LOCATION:Langebaan Country Estate – Golf Course
END:VEVENT
BEGIN:VEVENT
DTSTART;VALUE=DATE:20211018
DTEND;VALUE=DATE:20211019
DTSTAMP:20260423T123014
CREATED:20211001T163850Z
LAST-MODIFIED:20211001T163850Z
UID:18939-1634515200-1634601599@langebaanestate.co.za
SUMMARY:UPCOMING EVENT - Ladies Golf Coaching Sessions
DESCRIPTION:REMINDER – Ladies Golf Coaching Sessions \nPlease Note :  NO MASK\, NO ENTRY \nAll Covid-19 Protocols to please be adhered to at all times !
URL:https://langebaanestate.co.za/event/upcoming-event-ladies-golf-coaching-sessions-6/
LOCATION:Langebaan Country Estate – Golf Course
END:VEVENT
BEGIN:VEVENT
DTSTART;VALUE=DATE:20211017
DTEND;VALUE=DATE:20211018
DTSTAMP:20260423T123014
CREATED:20211010T153945Z
LAST-MODIFIED:20211010T153945Z
UID:19020-1634428800-1634515199@langebaanestate.co.za
SUMMARY:LCE Weekly Menu
DESCRIPTION:LCE Weekly Menu – We are open for Sit Down in our Horizon Restaurant every Wednesday & Friday from 17h30 – 21h00 & Sunday Lunch from 12h00 – 15h00. \nOpen to the Public for Takeaways\, delivery available on DigiDude | Collection | FREE Delivery on the Estate – Monday\, Tuesday\, Wednesday & Thursday from 12h00 – 18h00  |  Friday & Saturday from 12h00 – 20h00 | Sunday from 12h00 – 15h00 \nBooking Essential – To book your table or place order for collection or delivery  022 772 2112 \nThank you for your continuous support !
URL:https://langebaanestate.co.za/event/lce-weekly-menu-54/
LOCATION:Langebaan Country Estate – Golf Course
END:VEVENT
BEGIN:VEVENT
DTSTART;VALUE=DATE:20211016
DTEND;VALUE=DATE:20211017
DTSTAMP:20260423T123014
CREATED:20211010T154147Z
LAST-MODIFIED:20211010T154422Z
UID:19024-1634342400-1634428799@langebaanestate.co.za
SUMMARY:BURGER NIGHT | LCE Weekly Menu
DESCRIPTION:BURGER NIGHT \n \nLCE WEEKLY MENU \n \nLCE Weekly Menu – We are open for Sit Down in our Horizon Restaurant every Wednesday & Friday from 17h30 – 21h00 & Sunday Lunch from 12h00 – 15h00. \nOpen to the Public for Takeaways\, delivery available on DigiDude | Collection | FREE Delivery on the Estate – Monday\, Tuesday\, Wednesday & Thursday from 12h00 – 18h00  |  Friday & Saturday from 12h00 – 20h00 | Sunday from 12h00 – 15h00 \nBooking Essential – To book your table or place order for collection or delivery  022 772 2112 \nThank you for your continuous support !
URL:https://langebaanestate.co.za/event/burger-night-lce-weekly-menu-2/
LOCATION:Langebaan Country Estate – Golf Course
END:VEVENT
END:VCALENDAR