BEGIN:VCALENDAR
VERSION:2.0
PRODID:-//Langebaan Country Estate - ECPv6.15.20//NONSGML v1.0//EN
CALSCALE:GREGORIAN
METHOD:PUBLISH
X-WR-CALNAME:Langebaan Country Estate
X-ORIGINAL-URL:https://langebaanestate.co.za
X-WR-CALDESC:Events for Langebaan Country Estate
REFRESH-INTERVAL;VALUE=DURATION:PT1H
X-Robots-Tag:noindex
X-PUBLISHED-TTL:PT1H
BEGIN:VTIMEZONE
TZID:Africa/Johannesburg
BEGIN:STANDARD
TZOFFSETFROM:+0200
TZOFFSETTO:+0200
TZNAME:SAST
DTSTART:20200101T000000
END:STANDARD
END:VTIMEZONE
BEGIN:VEVENT
DTSTART;VALUE=DATE:20211218
DTEND;VALUE=DATE:20211219
DTSTAMP:20260422T034117
CREATED:20211128T161854Z
LAST-MODIFIED:20211128T161854Z
UID:19383-1639785600-1639871999@langebaanestate.co.za
SUMMARY:REMINDER - PARKRUN - Every Saturday
DESCRIPTION:REMINDER – Our Parkrun is back in action every Saturday – 08h00 \n 
URL:https://langebaanestate.co.za/event/reminder-parkrun-every-saturday-16/
LOCATION:Langebaan Country Estate – Golf Course
END:VEVENT
BEGIN:VEVENT
DTSTART;VALUE=DATE:20211218
DTEND;VALUE=DATE:20211219
DTSTAMP:20260422T034117
CREATED:20211212T093019Z
LAST-MODIFIED:20211212T093019Z
UID:19464-1639785600-1639871999@langebaanestate.co.za
SUMMARY:LCE Weekly Menu
DESCRIPTION:LCE Weekly Menu  \n \nSunday Lunch Menu \n \nThe LCE Horizon Restaurant \nOpen Monday to Thursday for sit-down from 12h00 until 20h30 | Friday & Saturday from 12h00 until 21h00 | Sunday from 12h00 until 15h00 \nFREE Delivery on the Estate | Takeaway | Collection \nOpen to the Public | Delivery available on DigiDude \n12h00 – 19h00 on Mon | Tues | Wed | Thurs \n12h00 – 20h00 on Fri | Sat \n12h00 – 15h00 on Sun \nOur Blaze Bar will be open daily for you to enjoy a drink or two \n(not for sale to persons under the age of 18) \nAll Covid 19 Protocols are in place for your safety. \nKindly adhere to the Covid 19 Rules & Regulations : No Mask😷🚫 No Entry😷🚫 \nBooking Essential – To book your table or place order for collection or delivery  022 772 2112 \nThank you for your continuous support !
URL:https://langebaanestate.co.za/event/lce-weekly-menu-100/
LOCATION:Langebaan Country Estate – Golf Course
END:VEVENT
BEGIN:VEVENT
DTSTART;VALUE=DATE:20211218
DTEND;VALUE=DATE:20211219
DTSTAMP:20260422T034117
CREATED:20211212T094122Z
LAST-MODIFIED:20211212T094122Z
UID:19481-1639785600-1639871999@langebaanestate.co.za
SUMMARY:Breakfast Menu
DESCRIPTION:Breakfast is Served ! \n \nThe LCE Horizon Restaurant \nOur Breakfast Menu is available daily from 08h30 until 11h00 \nOpen to the Public \nAll Covid 19 Protocols are in place for your safety. \nKindly adhere to the Covid 19 Rules & Regulations : No Mask😷🚫 No Entry😷🚫 \nBooking Essential – To book your table or place order for collection or delivery  022 772 2112 \nThank you for your continuous support !
URL:https://langebaanestate.co.za/event/breakfast-menu-7/
LOCATION:Langebaan Country Estate – Golf Course
END:VEVENT
BEGIN:VEVENT
DTSTART;VALUE=DATE:20211219
DTEND;VALUE=DATE:20211220
DTSTAMP:20260422T034117
CREATED:20211212T093123Z
LAST-MODIFIED:20211212T093123Z
UID:19466-1639872000-1639958399@langebaanestate.co.za
SUMMARY:Sunday Lunch Menu
DESCRIPTION:Sunday Lunch Menu \n \nThe LCE Horizon Restaurant \nOpen Monday to Thursday for sit-down from 12h00 until 20h30 | Friday & Saturday from 12h00 until 21h00 | Sunday from 12h00 until 15h00 \nFREE Delivery on the Estate | Takeaway | Collection \nOpen to the Public | Delivery available on DigiDude \n12h00 – 19h00 on Mon | Tues | Wed | Thurs \n12h00 – 20h00 on Fri | Sat \n12h00 – 15h00 on Sun \nOur Blaze Bar will be open daily for you to enjoy a drink or two \n(not for sale to persons under the age of 18) \nAll Covid 19 Protocols are in place for your safety. \nKindly adhere to the Covid 19 Rules & Regulations : No Mask😷🚫 No Entry😷🚫 \nBooking Essential – To book your table or place order for collection or delivery  022 772 2112 \nThank you for your continuous support !
URL:https://langebaanestate.co.za/event/sunday-lunch-menu/
LOCATION:Langebaan Country Estate – Golf Course
END:VEVENT
BEGIN:VEVENT
DTSTART;VALUE=DATE:20211219
DTEND;VALUE=DATE:20211220
DTSTAMP:20260422T034117
CREATED:20211212T094008Z
LAST-MODIFIED:20211212T094104Z
UID:19479-1639872000-1639958399@langebaanestate.co.za
SUMMARY:Breakfast Menu
DESCRIPTION:Breakfast is Served ! \n \nThe LCE Horizon Restaurant \nOur Breakfast Menu is available daily from 08h30 until 11h00 \nOpen to the Public \nAll Covid 19 Protocols are in place for your safety. \nKindly adhere to the Covid 19 Rules & Regulations : No Mask😷🚫 No Entry😷🚫 \nBooking Essential – To book your table or place order for collection or delivery  022 772 2112 \nThank you for your continuous support !
URL:https://langebaanestate.co.za/event/breakfast-menu-6/
LOCATION:Langebaan Country Estate – Golf Course
END:VEVENT
BEGIN:VEVENT
DTSTART;VALUE=DATE:20211220
DTEND;VALUE=DATE:20211221
DTSTAMP:20260422T034117
CREATED:20211121T140707Z
LAST-MODIFIED:20211121T142954Z
UID:19316-1639958400-1640044799@langebaanestate.co.za
SUMMARY:CHRISTMAS EVE DINNER - Friday - 24 December 2021
DESCRIPTION:Christmas Eve Dinner – Friday – 24 December 2021  \nFeast yourself this Christmas with us at LCE – we are open for Sit Down in our Horizon Restaurant for Christmas Eve Dinner from 18h00 – 21h00 \nDon’t miss out\, bookings are essential & going quickly – To book your table   022 772 2112 \n🎄🎁🎄🎁
URL:https://langebaanestate.co.za/event/christmas-eve-dinner-friday-24-december-2021-9/
LOCATION:Langebaan Country Estate – Golf Course
END:VEVENT
BEGIN:VEVENT
DTSTART;VALUE=DATE:20211220
DTEND;VALUE=DATE:20211221
DTSTAMP:20260422T034117
CREATED:20211219T153418Z
LAST-MODIFIED:20211219T153418Z
UID:19505-1639958400-1640044799@langebaanestate.co.za
SUMMARY:Breakfast Menu
DESCRIPTION:Breakfast is Served ! \n \nThe LCE Horizon Restaurant \nOur Breakfast Menu is available daily from 08h30 until 11h00 \nOpen to the Public \nAll Covid 19 Protocols are in place for your safety. \nKindly adhere to the Covid 19 Rules & Regulations : No Mask😷🚫 No Entry😷🚫 \nBooking Essential – To book your table or place order for collection or delivery  022 772 2112 \nThank you for your continuous support !
URL:https://langebaanestate.co.za/event/breakfast-menu-8/
LOCATION:Langebaan Country Estate – Golf Course
END:VEVENT
BEGIN:VEVENT
DTSTART;VALUE=DATE:20211220
DTEND;VALUE=DATE:20211221
DTSTAMP:20260422T034117
CREATED:20211219T154203Z
LAST-MODIFIED:20211220T073327Z
UID:19518-1639958400-1640044799@langebaanestate.co.za
SUMMARY:LCE Weekly Menu
DESCRIPTION:LCE Weekly Menu  \n \nSunday Lunch Menu \n \nThe LCE Horizon Restaurant \nOpen Monday to Thursday for sit-down from 12h00 until 20h30 | Friday from 12h00 until 15h00(Takeaway\, Collection & Delivery ONLY | Sunday from 12h00 until 15h00 \nFREE Delivery on the Estate | Takeaway | Collection \nOpen to the Public | Delivery available on DigiDude \n12h00 – 19h00 on Mon | Tues | Wed | Thurs \n12h00 – 20h00 on Fri | Sat \n12h00 – 15h00 on Sun \nOur Blaze Bar will be open daily for you to enjoy a drink or two \n(not for sale to persons under the age of 18) \nAll Covid 19 Protocols are in place for your safety. \nKindly adhere to the Covid 19 Rules & Regulations : No Mask😷🚫 No Entry😷🚫 \nBooking Essential – To book your table or place order for collection or delivery  022 772 2112 \nThank you for your continuous support !
URL:https://langebaanestate.co.za/event/lce-weekly-menu-101/
LOCATION:Langebaan Country Estate – Golf Course
END:VEVENT
BEGIN:VEVENT
DTSTART;VALUE=DATE:20211221
DTEND;VALUE=DATE:20211222
DTSTAMP:20260422T034117
CREATED:20211121T140755Z
LAST-MODIFIED:20211121T143020Z
UID:19318-1640044800-1640131199@langebaanestate.co.za
SUMMARY:CHRISTMAS EVE DINNER - Friday - 24 December 2021
DESCRIPTION:Christmas Eve Dinner – Friday – 24 December 2021  \nFeast yourself this Christmas with us at LCE – we are open for Sit Down in our Horizon Restaurant for Christmas Eve Dinner from 18h00 – 21h00 \nDon’t miss out\, bookings are essential & going quickly – To book your table   022 772 2112 \n🎄🎁🎄🎁
URL:https://langebaanestate.co.za/event/christmas-eve-dinner-friday-24-december-2021-10/
LOCATION:Langebaan Country Estate – Golf Course
END:VEVENT
BEGIN:VEVENT
DTSTART;VALUE=DATE:20211221
DTEND;VALUE=DATE:20211222
DTSTAMP:20260422T034117
CREATED:20211219T153446Z
LAST-MODIFIED:20211219T153446Z
UID:19507-1640044800-1640131199@langebaanestate.co.za
SUMMARY:Breakfast Menu
DESCRIPTION:Breakfast is Served ! \n \nThe LCE Horizon Restaurant \nOur Breakfast Menu is available daily from 08h30 until 11h00 \nOpen to the Public \nAll Covid 19 Protocols are in place for your safety. \nKindly adhere to the Covid 19 Rules & Regulations : No Mask😷🚫 No Entry😷🚫 \nBooking Essential – To book your table or place order for collection or delivery  022 772 2112 \nThank you for your continuous support !
URL:https://langebaanestate.co.za/event/breakfast-menu-9/
LOCATION:Langebaan Country Estate – Golf Course
END:VEVENT
BEGIN:VEVENT
DTSTART;VALUE=DATE:20211221
DTEND;VALUE=DATE:20211222
DTSTAMP:20260422T034117
CREATED:20211219T154318Z
LAST-MODIFIED:20211220T073356Z
UID:19520-1640044800-1640131199@langebaanestate.co.za
SUMMARY:LCE Weekly Menu
DESCRIPTION:LCE Weekly Menu  \n \nSunday Lunch Menu \n \nThe LCE Horizon Restaurant \nOpen Monday to Thursday for sit-down from 12h00 until 20h30 | Friday from 12h00 until 15h00(Takeaway\, Collection & Delivery ONLY | Sunday from 12h00 until 15h00 \nFREE Delivery on the Estate | Takeaway | Collection \nOpen to the Public | Delivery available on DigiDude \n12h00 – 19h00 on Mon | Tues | Wed | Thurs \n12h00 – 20h00 on Fri | Sat \n12h00 – 15h00 on Sun \nOur Blaze Bar will be open daily for you to enjoy a drink or two \n(not for sale to persons under the age of 18) \nAll Covid 19 Protocols are in place for your safety. \nKindly adhere to the Covid 19 Rules & Regulations : No Mask😷🚫 No Entry😷🚫 \nBooking Essential – To book your table or place order for collection or delivery  022 772 2112 \nThank you for your continuous support !
URL:https://langebaanestate.co.za/event/lce-weekly-menu-102/
LOCATION:Langebaan Country Estate – Golf Course
END:VEVENT
BEGIN:VEVENT
DTSTART;VALUE=DATE:20211222
DTEND;VALUE=DATE:20211223
DTSTAMP:20260422T034117
CREATED:20211121T140834Z
LAST-MODIFIED:20211121T143044Z
UID:19320-1640131200-1640217599@langebaanestate.co.za
SUMMARY:CHRISTMAS EVE DINNER - Friday - 24 December 2021
DESCRIPTION:Christmas Eve Dinner – Friday – 24 December 2021  \nFeast yourself this Christmas with us at LCE – we are open for Sit Down in our Horizon Restaurant for Christmas Eve Dinner from 18h00 – 21h00 \nDon’t miss out\, bookings are essential & going quickly – To book your table   022 772 2112 \n🎄🎁🎄🎁
URL:https://langebaanestate.co.za/event/christmas-eve-dinner-friday-24-december-2021-11/
LOCATION:Langebaan Country Estate – Golf Course
END:VEVENT
BEGIN:VEVENT
DTSTART;VALUE=DATE:20211222
DTEND;VALUE=DATE:20211223
DTSTAMP:20260422T034117
CREATED:20211219T153514Z
LAST-MODIFIED:20211219T153514Z
UID:19509-1640131200-1640217599@langebaanestate.co.za
SUMMARY:Breakfast Menu
DESCRIPTION:Breakfast is Served ! \n \nThe LCE Horizon Restaurant \nOur Breakfast Menu is available daily from 08h30 until 11h00 \nOpen to the Public \nAll Covid 19 Protocols are in place for your safety. \nKindly adhere to the Covid 19 Rules & Regulations : No Mask😷🚫 No Entry😷🚫 \nBooking Essential – To book your table or place order for collection or delivery  022 772 2112 \nThank you for your continuous support !
URL:https://langebaanestate.co.za/event/breakfast-menu-10/
LOCATION:Langebaan Country Estate – Golf Course
END:VEVENT
BEGIN:VEVENT
DTSTART;VALUE=DATE:20211222
DTEND;VALUE=DATE:20211223
DTSTAMP:20260422T034117
CREATED:20211219T154355Z
LAST-MODIFIED:20211220T073502Z
UID:19522-1640131200-1640217599@langebaanestate.co.za
SUMMARY:LCE Weekly Menu
DESCRIPTION:LCE Weekly Menu  \n \nSunday Lunch Menu \n \nThe LCE Horizon Restaurant \nOpen Monday to Thursday for sit-down from 12h00 until 20h30 | Friday from 12h00 until 15h00(Takeaway\, Collection & Delivery ONLY | Sunday from 12h00 until 15h00 \nFREE Delivery on the Estate | Takeaway | Collection \nOpen to the Public | Delivery available on DigiDude \n12h00 – 19h00 on Mon | Tues | Wed | Thurs \n12h00 – 20h00 on Fri | Sat \n12h00 – 15h00 on Sun \nOur Blaze Bar will be open daily for you to enjoy a drink or two \n(not for sale to persons under the age of 18) \nAll Covid 19 Protocols are in place for your safety. \nKindly adhere to the Covid 19 Rules & Regulations : No Mask😷🚫 No Entry😷🚫 \nBooking Essential – To book your table or place order for collection or delivery  022 772 2112 \nThank you for your continuous support !
URL:https://langebaanestate.co.za/event/lce-weekly-menu-103/
LOCATION:Langebaan Country Estate – Golf Course
END:VEVENT
BEGIN:VEVENT
DTSTART;VALUE=DATE:20211223
DTEND;VALUE=DATE:20211224
DTSTAMP:20260422T034117
CREATED:20211121T140913Z
LAST-MODIFIED:20211121T143109Z
UID:19322-1640217600-1640303999@langebaanestate.co.za
SUMMARY:CHRISTMAS EVE DINNER - Friday - 24 December 2021
DESCRIPTION:Christmas Eve Dinner – Friday – 24 December 2021  \nFeast yourself this Christmas with us at LCE – we are open for Sit Down in our Horizon Restaurant for Christmas Eve Dinner from 18h00 – 21h00 \nDon’t miss out\, bookings are essential & going quickly – To book your table   022 772 2112 \n🎄🎁🎄🎁
URL:https://langebaanestate.co.za/event/christmas-eve-dinner-friday-24-december-2021-12/
LOCATION:Langebaan Country Estate – Golf Course
END:VEVENT
BEGIN:VEVENT
DTSTART;VALUE=DATE:20211223
DTEND;VALUE=DATE:20211224
DTSTAMP:20260422T034117
CREATED:20211219T153546Z
LAST-MODIFIED:20211219T153546Z
UID:19511-1640217600-1640303999@langebaanestate.co.za
SUMMARY:Breakfast Menu
DESCRIPTION:Breakfast is Served ! \n \nThe LCE Horizon Restaurant \nOur Breakfast Menu is available daily from 08h30 until 11h00 \nOpen to the Public \nAll Covid 19 Protocols are in place for your safety. \nKindly adhere to the Covid 19 Rules & Regulations : No Mask😷🚫 No Entry😷🚫 \nBooking Essential – To book your table or place order for collection or delivery  022 772 2112 \nThank you for your continuous support !
URL:https://langebaanestate.co.za/event/breakfast-menu-11/
LOCATION:Langebaan Country Estate – Golf Course
END:VEVENT
BEGIN:VEVENT
DTSTART;VALUE=DATE:20211223
DTEND;VALUE=DATE:20211224
DTSTAMP:20260422T034117
CREATED:20211219T154452Z
LAST-MODIFIED:20211220T073616Z
UID:19524-1640217600-1640303999@langebaanestate.co.za
SUMMARY:LCE Weekly Menu
DESCRIPTION:LCE Weekly Menu  \n \nSunday Lunch Menu \n \nThe LCE Horizon Restaurant \nOpen Monday to Thursday for sit-down from 12h00 until 20h30 | Friday from 12h00 until 15h00(Takeaway\, Collection & Delivery ONLY | Sunday from 12h00 until 15h00 \nFREE Delivery on the Estate | Takeaway | Collection \nOpen to the Public | Delivery available on DigiDude \n12h00 – 19h00 on Mon | Tues | Wed | Thurs \n12h00 – 20h00 on Fri | Sat \n12h00 – 15h00 on Sun \nOur Blaze Bar will be open daily for you to enjoy a drink or two \n(not for sale to persons under the age of 18) \nAll Covid 19 Protocols are in place for your safety. \nKindly adhere to the Covid 19 Rules & Regulations : No Mask😷🚫 No Entry😷🚫 \nBooking Essential – To book your table or place order for collection or delivery  022 772 2112 \nThank you for your continuous support !
URL:https://langebaanestate.co.za/event/lce-weekly-menu-104/
LOCATION:Langebaan Country Estate – Golf Course
END:VEVENT
BEGIN:VEVENT
DTSTART;VALUE=DATE:20211224
DTEND;VALUE=DATE:20211225
DTSTAMP:20260422T034117
CREATED:20211121T141110Z
LAST-MODIFIED:20211121T143155Z
UID:19324-1640304000-1640390399@langebaanestate.co.za
SUMMARY:CHRISTMAS EVE DINNER - Friday - 24 December 2021
DESCRIPTION:Christmas Eve Dinner – Friday – 24 December 2021  \nEnjoy making memories & spending time with family on Christmas Eve at LCE  🎅🎅🎅 \nMERRY CHRISTMAS TO ALL OUR RESIDENTS & GUESTS🎄🎁
URL:https://langebaanestate.co.za/event/christmas-eve-dinner-friday-24-december-2021-13/
LOCATION:Langebaan Country Estate – Golf Course
END:VEVENT
BEGIN:VEVENT
DTSTART;VALUE=DATE:20211224
DTEND;VALUE=DATE:20211225
DTSTAMP:20260422T034117
CREATED:20211219T153631Z
LAST-MODIFIED:20211219T153631Z
UID:19513-1640304000-1640390399@langebaanestate.co.za
SUMMARY:Breakfast Menu
DESCRIPTION:Breakfast is Served ! \n \nThe LCE Horizon Restaurant \nOur Breakfast Menu is available daily from 08h30 until 11h00 \nOpen to the Public \nAll Covid 19 Protocols are in place for your safety. \nKindly adhere to the Covid 19 Rules & Regulations : No Mask😷🚫 No Entry😷🚫 \nBooking Essential – To book your table or place order for collection or delivery  022 772 2112 \nThank you for your continuous support !
URL:https://langebaanestate.co.za/event/breakfast-menu-12/
LOCATION:Langebaan Country Estate – Golf Course
END:VEVENT
BEGIN:VEVENT
DTSTART;VALUE=DATE:20211224
DTEND;VALUE=DATE:20211225
DTSTAMP:20260422T034117
CREATED:20211219T154533Z
LAST-MODIFIED:20211220T074034Z
UID:19526-1640304000-1640390399@langebaanestate.co.za
SUMMARY:LCE Weekly Menu
DESCRIPTION:Friday Pizza Menu \n  \n  \nSunday Lunch Menu \n \nThe LCE Horizon Restaurant \nOpen Monday to Thursday for sit-down from 12h00 until 20h30 | Friday from 12h00 until 15h00(Takeaway\, Collection & Delivery ONLY | Sunday from 12h00 until 15h00 \nFREE Delivery on the Estate | Takeaway | Collection \nOpen to the Public | Delivery available on DigiDude \n12h00 – 19h00 on Mon | Tues | Wed | Thurs \n12h00 – 20h00 on Fri | Sat \n12h00 – 15h00 on Sun \nOur Blaze Bar will be open daily for you to enjoy a drink or two \n(not for sale to persons under the age of 18) \nAll Covid 19 Protocols are in place for your safety. \nKindly adhere to the Covid 19 Rules & Regulations : No Mask😷🚫 No Entry😷🚫 \nBooking Essential – To book your table or place order for collection or delivery  022 772 2112 \nThank you for your continuous support !
URL:https://langebaanestate.co.za/event/lce-weekly-menu-105/
LOCATION:Langebaan Country Estate – Golf Course
END:VEVENT
BEGIN:VEVENT
DTSTART;VALUE=DATE:20211226
DTEND;VALUE=DATE:20211227
DTSTAMP:20260422T034117
CREATED:20211219T153718Z
LAST-MODIFIED:20211219T153718Z
UID:19515-1640476800-1640563199@langebaanestate.co.za
SUMMARY:Breakfast Menu
DESCRIPTION:Breakfast is Served ! \n \nThe LCE Horizon Restaurant \nOur Breakfast Menu is available daily from 08h30 until 11h00 \nOpen to the Public \nAll Covid 19 Protocols are in place for your safety. \nKindly adhere to the Covid 19 Rules & Regulations : No Mask😷🚫 No Entry😷🚫 \nBooking Essential – To book your table or place order for collection or delivery  022 772 2112 \nThank you for your continuous support !
URL:https://langebaanestate.co.za/event/breakfast-menu-13/
LOCATION:Langebaan Country Estate – Golf Course
END:VEVENT
BEGIN:VEVENT
DTSTART;VALUE=DATE:20211226
DTEND;VALUE=DATE:20211227
DTSTAMP:20260422T034117
CREATED:20211219T160237Z
LAST-MODIFIED:20211220T074116Z
UID:19535-1640476800-1640563199@langebaanestate.co.za
SUMMARY:LCE Weekly Menu
DESCRIPTION:LCE Weekly Menu  \n \nSunday Lunch Menu \n \nThe LCE Horizon Restaurant \nOpen Monday to Thursday for sit-down from 12h00 until 20h30 | Friday from 12h00 until 15h00(Takeaway\, Collection & Delivery ONLY | Sunday from 12h00 until 15h00 \nFREE Delivery on the Estate | Takeaway | Collection \nOpen to the Public | Delivery available on DigiDude \n12h00 – 19h00 on Mon | Tues | Wed | Thurs \n12h00 – 20h00 on Fri | Sat \n12h00 – 15h00 on Sun \nOur Blaze Bar will be open daily for you to enjoy a drink or two \n(not for sale to persons under the age of 18) \nAll Covid 19 Protocols are in place for your safety. \nKindly adhere to the Covid 19 Rules & Regulations : No Mask😷🚫 No Entry😷🚫 \nBooking Essential – To book your table or place order for collection or delivery  022 772 2112 \nThank you for your continuous support !
URL:https://langebaanestate.co.za/event/lce-weekly-menu-106/
LOCATION:Langebaan Country Estate – Golf Course
END:VEVENT
BEGIN:VEVENT
DTSTART;VALUE=DATE:20211227
DTEND;VALUE=DATE:20211228
DTSTAMP:20260422T034117
CREATED:20211227T084904Z
LAST-MODIFIED:20211227T084904Z
UID:19553-1640563200-1640649599@langebaanestate.co.za
SUMMARY:Breakfast Menu | LCE Weekly Menu | Sunday Lunch Menu
DESCRIPTION:Breakfast Menu  \n \nLCE Weekly Menu  \n \nSunday Lunch Menu \n \nThe LCE Horizon Restaurant \nOpen DAILY for Breakfast from 08h30 until 11h00 | LCE Weekly Menu is available Monday to Thursday for sit-down from 12h00 until 20h30 & Friday from 12h00 until 21h00| Sunday Lunch Menu is available from 12h00 until 15h00 \nFREE Delivery on the Estate | Takeaway | Collection \nOpen to the Public | Delivery available on DigiDude \n12h00 – 19h00 on Mon | Tues | Wed | Thurs \n12h00 – 20h00 on Fri | Sat \n12h00 – 15h00 on Sun \nOur Blaze Bar will be open daily for you to enjoy a drink or two \n(not for sale to persons under the age of 18) \nAll Covid 19 Protocols are in place for your safety. \nKindly adhere to the Covid 19 Rules & Regulations : No Mask😷🚫 No Entry😷🚫 \nBooking Essential – To book your table or place order for collection or delivery  022 772 2112 \nThank you for your continuous support !
URL:https://langebaanestate.co.za/event/breakfast-menu-lce-weekly-menu-sunday-lunch-menu/
LOCATION:Langebaan Country Estate – Golf Course
END:VEVENT
BEGIN:VEVENT
DTSTART;VALUE=DATE:20211227
DTEND;VALUE=DATE:20211228
DTSTAMP:20260422T034117
CREATED:20211227T095632Z
LAST-MODIFIED:20211227T095632Z
UID:19585-1640563200-1640649599@langebaanestate.co.za
SUMMARY:PARKRUN - Every Saturday
DESCRIPTION:REMINDER – Our Parkrun is back in action every Saturday – 08h00 \n 
URL:https://langebaanestate.co.za/event/parkrun-every-saturday-6/
LOCATION:Langebaan Country Estate – Golf Course
END:VEVENT
BEGIN:VEVENT
DTSTART;VALUE=DATE:20211228
DTEND;VALUE=DATE:20211229
DTSTAMP:20260422T034117
CREATED:20211227T085143Z
LAST-MODIFIED:20211227T085143Z
UID:19557-1640649600-1640735999@langebaanestate.co.za
SUMMARY:Breakfast Menu | LCE Weekly Menu | Sunday Lunch Menu
DESCRIPTION:Breakfast Menu  \n \nLCE Weekly Menu  \n \nSunday Lunch Menu \n \nThe LCE Horizon Restaurant \nOpen DAILY for Breakfast from 08h30 until 11h00 | LCE Weekly Menu is available Monday to Thursday for sit-down from 12h00 until 20h30 & Friday from 12h00 until 21h00| Sunday Lunch Menu is available from 12h00 until 15h00 \nFREE Delivery on the Estate | Takeaway | Collection \nOpen to the Public | Delivery available on DigiDude \n12h00 – 19h00 on Mon | Tues | Wed | Thurs \n12h00 – 20h00 on Fri | Sat \n12h00 – 15h00 on Sun \nOur Blaze Bar will be open daily for you to enjoy a drink or two \n(not for sale to persons under the age of 18) \nAll Covid 19 Protocols are in place for your safety. \nKindly adhere to the Covid 19 Rules & Regulations : No Mask😷🚫 No Entry😷🚫 \nBooking Essential – To book your table or place order for collection or delivery  022 772 2112 \nThank you for your continuous support !
URL:https://langebaanestate.co.za/event/breakfast-menu-lce-weekly-menu-sunday-lunch-menu-3/
LOCATION:Langebaan Country Estate – Golf Course
END:VEVENT
BEGIN:VEVENT
DTSTART;VALUE=DATE:20211229
DTEND;VALUE=DATE:20211230
DTSTAMP:20260422T034117
CREATED:20211227T084934Z
LAST-MODIFIED:20211227T085108Z
UID:19555-1640736000-1640822399@langebaanestate.co.za
SUMMARY:Breakfast Menu | LCE Weekly Menu | Sunday Lunch Menu
DESCRIPTION:Breakfast Menu  \n \nLCE Weekly Menu  \n \nSunday Lunch Menu \n \nThe LCE Horizon Restaurant \nOpen DAILY for Breakfast from 08h30 until 11h00 | LCE Weekly Menu is available Monday to Thursday for sit-down from 12h00 until 20h30 & Friday from 12h00 until 21h00| Sunday Lunch Menu is available from 12h00 until 15h00 \nFREE Delivery on the Estate | Takeaway | Collection \nOpen to the Public | Delivery available on DigiDude \n12h00 – 19h00 on Mon | Tues | Wed | Thurs \n12h00 – 20h00 on Fri | Sat \n12h00 – 15h00 on Sun \nOur Blaze Bar will be open daily for you to enjoy a drink or two \n(not for sale to persons under the age of 18) \nAll Covid 19 Protocols are in place for your safety. \nKindly adhere to the Covid 19 Rules & Regulations : No Mask😷🚫 No Entry😷🚫 \nBooking Essential – To book your table or place order for collection or delivery  022 772 2112 \nThank you for your continuous support !
URL:https://langebaanestate.co.za/event/breakfast-menu-lce-weekly-menu-sunday-lunch-menu-2/
LOCATION:Langebaan Country Estate – Golf Course
END:VEVENT
BEGIN:VEVENT
DTSTART;VALUE=DATE:20211229
DTEND;VALUE=DATE:20211230
DTSTAMP:20260422T034117
CREATED:20211227T095654Z
LAST-MODIFIED:20211227T095654Z
UID:19587-1640736000-1640822399@langebaanestate.co.za
SUMMARY:PARKRUN - Every Saturday
DESCRIPTION:REMINDER – Our Parkrun is back in action every Saturday – 08h00 \n 
URL:https://langebaanestate.co.za/event/parkrun-every-saturday-7/
LOCATION:Langebaan Country Estate – Golf Course
END:VEVENT
BEGIN:VEVENT
DTSTART;VALUE=DATE:20211230
DTEND;VALUE=DATE:20211231
DTSTAMP:20260422T034117
CREATED:20211227T085212Z
LAST-MODIFIED:20211227T085212Z
UID:19559-1640822400-1640908799@langebaanestate.co.za
SUMMARY:Breakfast Menu | LCE Weekly Menu | Sunday Lunch Menu
DESCRIPTION:Breakfast Menu  \n \nLCE Weekly Menu  \n \nSunday Lunch Menu \n \nThe LCE Horizon Restaurant \nOpen DAILY for Breakfast from 08h30 until 11h00 | LCE Weekly Menu is available Monday to Thursday for sit-down from 12h00 until 20h30 & Friday from 12h00 until 21h00| Sunday Lunch Menu is available from 12h00 until 15h00 \nFREE Delivery on the Estate | Takeaway | Collection \nOpen to the Public | Delivery available on DigiDude \n12h00 – 19h00 on Mon | Tues | Wed | Thurs \n12h00 – 20h00 on Fri | Sat \n12h00 – 15h00 on Sun \nOur Blaze Bar will be open daily for you to enjoy a drink or two \n(not for sale to persons under the age of 18) \nAll Covid 19 Protocols are in place for your safety. \nKindly adhere to the Covid 19 Rules & Regulations : No Mask😷🚫 No Entry😷🚫 \nBooking Essential – To book your table or place order for collection or delivery  022 772 2112 \nThank you for your continuous support !
URL:https://langebaanestate.co.za/event/breakfast-menu-lce-weekly-menu-sunday-lunch-menu-4/
LOCATION:Langebaan Country Estate – Golf Course
END:VEVENT
BEGIN:VEVENT
DTSTART;VALUE=DATE:20211231
DTEND;VALUE=DATE:20220101
DTSTAMP:20260422T034117
CREATED:20211227T085249Z
LAST-MODIFIED:20211227T085249Z
UID:19561-1640908800-1640995199@langebaanestate.co.za
SUMMARY:Breakfast Menu | LCE Weekly Menu | Sunday Lunch Menu
DESCRIPTION:Breakfast Menu  \n \nLCE Weekly Menu  \n \nSunday Lunch Menu \n \nThe LCE Horizon Restaurant \nOpen DAILY for Breakfast from 08h30 until 11h00 | LCE Weekly Menu is available Monday to Thursday for sit-down from 12h00 until 20h30 & Friday from 12h00 until 21h00| Sunday Lunch Menu is available from 12h00 until 15h00 \nFREE Delivery on the Estate | Takeaway | Collection \nOpen to the Public | Delivery available on DigiDude \n12h00 – 19h00 on Mon | Tues | Wed | Thurs \n12h00 – 20h00 on Fri | Sat \n12h00 – 15h00 on Sun \nOur Blaze Bar will be open daily for you to enjoy a drink or two \n(not for sale to persons under the age of 18) \nAll Covid 19 Protocols are in place for your safety. \nKindly adhere to the Covid 19 Rules & Regulations : No Mask😷🚫 No Entry😷🚫 \nBooking Essential – To book your table or place order for collection or delivery  022 772 2112 \nThank you for your continuous support !
URL:https://langebaanestate.co.za/event/breakfast-menu-lce-weekly-menu-sunday-lunch-menu-5/
LOCATION:Langebaan Country Estate – Golf Course
END:VEVENT
BEGIN:VEVENT
DTSTART;VALUE=DATE:20211231
DTEND;VALUE=DATE:20220101
DTSTAMP:20260422T034117
CREATED:20211227T095717Z
LAST-MODIFIED:20211227T095717Z
UID:19589-1640908800-1640995199@langebaanestate.co.za
SUMMARY:PARKRUN - Every Saturday
DESCRIPTION:REMINDER – Our Parkrun is back in action every Saturday – 08h00 \n 
URL:https://langebaanestate.co.za/event/parkrun-every-saturday-8/
LOCATION:Langebaan Country Estate – Golf Course
END:VEVENT
END:VCALENDAR