BEGIN:VCALENDAR
VERSION:2.0
PRODID:-//Langebaan Country Estate - ECPv6.15.20//NONSGML v1.0//EN
CALSCALE:GREGORIAN
METHOD:PUBLISH
X-ORIGINAL-URL:https://langebaanestate.co.za
X-WR-CALDESC:Events for Langebaan Country Estate
REFRESH-INTERVAL;VALUE=DURATION:PT1H
X-Robots-Tag:noindex
X-PUBLISHED-TTL:PT1H
BEGIN:VTIMEZONE
TZID:Africa/Johannesburg
BEGIN:STANDARD
TZOFFSETFROM:+0200
TZOFFSETTO:+0200
TZNAME:SAST
DTSTART:20210101T000000
END:STANDARD
END:VTIMEZONE
BEGIN:VEVENT
DTSTART;VALUE=DATE:20220420
DTEND;VALUE=DATE:20220421
DTSTAMP:20260420T135729
CREATED:20220223T075350Z
LAST-MODIFIED:20220223T075350Z
UID:20452-1650412800-1650499199@langebaanestate.co.za
SUMMARY:2022 PLAY & EAT PACKAGES
DESCRIPTION:Book your ℙ𝕃𝔸𝕐 & 𝔼𝔸𝕋 Package\n\n\n\nMidweek &️ Weekend Packages.\n\n\n\nValid from 01 March 2022 until 14 December 2022 | Subject to availability | T’s & C’s apply\n\n\n\nContact :  022 772 2112 | catering@LCE.co.za
URL:https://langebaanestate.co.za/event/2022-play-eat-packages-9/
END:VEVENT
BEGIN:VEVENT
DTSTART;VALUE=DATE:20220420
DTEND;VALUE=DATE:20220421
DTSTAMP:20260420T135729
CREATED:20220403T181603Z
LAST-MODIFIED:20220403T181603Z
UID:20829-1650412800-1650499199@langebaanestate.co.za
SUMMARY:WEDNESDAY Dinner Specials
DESCRIPTION:FREE Delivery on the Estate | Takeaway | Collection | Sit-down \nOpen to the Public | Delivery available on DigiDude \nTrading Hours  \n12h00 – 19h30 on Mon | Tues | Thurs \n12h00 – 20h30 on Wed | Fri \n08h30 – 20h30 on Sat \n08h30 – 15h00 on Sun \nDelivery schedule \n12h00 – 18h00 on Mon | Tues | Wed | Thurs \n12h00 – 20h00 on Fri | Sat \n12h00 – 15h00 on Sun \nHappy Hour in our BLAZE BAR (Open daily)\nFriday – 19h00 – 20h00\nSaturday – 16h00 – 18h00\nSunday – 15h00 – 17h00 \n(not for sale to persons under the age of 18) \nAll Covid 19 Protocols are in place for your safety. \nKindly adhere to the Covid 19 Rules & Regulations : No Mask😷🚫 No Entry😷🚫 \nBooking Essential – To book your table or place order for collection or delivery  022 772 2112 \nThank you for your continuous support !
URL:https://langebaanestate.co.za/event/wednesday-dinner-specials-12/
LOCATION:Langebaan Country Estate – Golf Course
END:VEVENT
BEGIN:VEVENT
DTSTART;VALUE=DATE:20220420
DTEND;VALUE=DATE:20220421
DTSTAMP:20260420T135729
CREATED:20220417T171546Z
LAST-MODIFIED:20220417T171615Z
UID:20966-1650412800-1650499199@langebaanestate.co.za
SUMMARY:LCE Weekly A-La-Carte Menu
DESCRIPTION:LCE Weekly A-La-Carte Menu \nFREE Delivery on the Estate | Takeaway | Collection | Sit-down \nOpen to the Public | Delivery available on DigiDude \nTrading Hours  \n12h00 – 19h30 on Mon | Tues | Thurs \n12h00 – 20h30 on Wed | Fri \n08h30 – 20h30 on Sat \n08h30 – 15h00 on Sun \nDelivery schedule \n12h00 – 18h00 on Mon | Tues | Wed | Thurs \n12h00 – 20h00 on Fri | Sat \n12h00 – 15h00 on Sun \nHappy Hour in our BLAZE BAR (Open daily) \nFriday – 19h00 – 20h00\nSaturday – 16h00 – 18h00\nSunday – 15h00 – 17h00 \n(not for sale to persons under the age of 18) \nBooking Essential – To book your table or place order for collection or delivery  022 772 2112 \n 
URL:https://langebaanestate.co.za/event/lce-weekly-a-la-carte-menu-56/
LOCATION:Langebaan Country Estate – Golf Course
END:VEVENT
BEGIN:VEVENT
DTSTART;VALUE=DATE:20220420
DTEND;VALUE=DATE:20220421
DTSTAMP:20260420T135729
CREATED:20220417T173041Z
LAST-MODIFIED:20220417T173041Z
UID:20977-1650412800-1650499199@langebaanestate.co.za
SUMMARY:Mother's Day Lunch - Sunday 08 May 2022
DESCRIPTION:Spoil mom this Mother’s Day with us at LCE. \n \nBOOKINGS ESSENTIAL \n50% DEPOSIT IS REQUIRED \nTo book your table  022 772 2112  |  admin@LCE.co.za \n 
URL:https://langebaanestate.co.za/event/mothers-day-lunch-sunday-08-may-2022-2/
END:VEVENT
END:VCALENDAR