BEGIN:VCALENDAR
VERSION:2.0
PRODID:-//Langebaan Country Estate - ECPv6.15.20//NONSGML v1.0//EN
CALSCALE:GREGORIAN
METHOD:PUBLISH
X-WR-CALNAME:Langebaan Country Estate
X-ORIGINAL-URL:https://langebaanestate.co.za
X-WR-CALDESC:Events for Langebaan Country Estate
REFRESH-INTERVAL;VALUE=DURATION:PT1H
X-Robots-Tag:noindex
X-PUBLISHED-TTL:PT1H
BEGIN:VTIMEZONE
TZID:Africa/Johannesburg
BEGIN:STANDARD
TZOFFSETFROM:+0200
TZOFFSETTO:+0200
TZNAME:SAST
DTSTART:20210101T000000
END:STANDARD
END:VTIMEZONE
BEGIN:VEVENT
DTSTART;VALUE=DATE:20220417
DTEND;VALUE=DATE:20220418
DTSTAMP:20260420T222757
CREATED:20220403T183038Z
LAST-MODIFIED:20220409T140959Z
UID:20854-1650153600-1650239999@langebaanestate.co.za
SUMMARY:Sunday LCE Breakfast Menu
DESCRIPTION:Breakfast Menu  \n \nFREE Delivery on the Estate | Takeaway | Collection | Sit-down \nOpen to the Public | Delivery available on DigiDude \nTrading Hours  \n12h00 – 19h30 on Mon | Tues | Thurs \n12h00 – 20h30 on Wed | Fri \n08h30 – 20h30 on Sat \n08h30 – 15h00 on Sun \nDelivery schedule \n12h00 – 18h00 on Mon | Tues | Wed | Thurs \n12h00 – 20h00 on Fri | Sat \n12h00 – 15h00 on Sun \nHappy Hour in our BLAZE BAR (Open daily)\nFriday – 19h00 – 20h00\nSaturday – 16h00 – 18h00\nSunday – 15h00 – 17h00 \n(not for sale to persons under the age of 18) \nAll Covid 19 Protocols are in place for your safety. \nKindly adhere to the Covid 19 Rules & Regulations : No Mask😷🚫 No Entry😷🚫 \nBooking Essential – To book your table or place order for collection or delivery  022 772 2112 \nThank you for your continuous support !
URL:https://langebaanestate.co.za/event/sunday-lce-breakfast-menu-sunday-lunch-menu-11/
LOCATION:Langebaan Country Estate – Golf Course
END:VEVENT
BEGIN:VEVENT
DTSTART;VALUE=DATE:20220417
DTEND;VALUE=DATE:20220418
DTSTAMP:20260420T222757
CREATED:20220409T142357Z
LAST-MODIFIED:20220409T142710Z
UID:20873-1650153600-1650239999@langebaanestate.co.za
SUMMARY:Easter Sunday Lunch
DESCRIPTION:Easter Sunday Lunch  \n \nBookings Essential –  022 772 2112 | admin@LCE.co.za | 50% Deposit required \n 
URL:https://langebaanestate.co.za/event/sunday-easter-lunch-menu/
LOCATION:Langebaan Country Estate – Golf Course
END:VEVENT
BEGIN:VEVENT
DTSTART;VALUE=DATE:20220417
DTEND;VALUE=DATE:20220418
DTSTAMP:20260420T222757
CREATED:20220409T144437Z
LAST-MODIFIED:20220409T144437Z
UID:20904-1650153600-1650239999@langebaanestate.co.za
SUMMARY:2022 EASTER PROGRAMME
DESCRIPTION:15 – 18 APRIL 2022 – LCE EASTER PROGRAMME
URL:https://langebaanestate.co.za/event/2022-easter-programme-9/
END:VEVENT
BEGIN:VEVENT
DTSTART;VALUE=DATE:20220417
DTEND;VALUE=DATE:20220418
DTSTAMP:20260420T222757
CREATED:20220417T175847Z
LAST-MODIFIED:20220525T075139Z
UID:21024-1650153600-1650239999@langebaanestate.co.za
SUMMARY:MTB FUN RIDE - 17 APRIL 2022
DESCRIPTION:𝕄𝕋𝔹 𝔽𝕌ℕ ℝ𝕀𝔻𝔼\n\nSave the Date : 17 April 2022\n\n\n\nRegistration : 07H30 – LCE Driving Range\nStart : 08h00\nFEE : LCE MTB Members : R40 | Non-Members : R60\nIncludes FREE boerie roll & refreshment afterwards | Lucky Draw Prizes
URL:https://langebaanestate.co.za/event/mtb-fun-ride-20-march-2022-18/
END:VEVENT
END:VCALENDAR