BEGIN:VCALENDAR
VERSION:2.0
PRODID:-//Langebaan Country Estate - ECPv6.15.20//NONSGML v1.0//EN
CALSCALE:GREGORIAN
METHOD:PUBLISH
X-ORIGINAL-URL:https://langebaanestate.co.za
X-WR-CALDESC:Events for Langebaan Country Estate
REFRESH-INTERVAL;VALUE=DURATION:PT1H
X-Robots-Tag:noindex
X-PUBLISHED-TTL:PT1H
BEGIN:VTIMEZONE
TZID:Africa/Johannesburg
BEGIN:STANDARD
TZOFFSETFROM:+0200
TZOFFSETTO:+0200
TZNAME:SAST
DTSTART:20210101T000000
END:STANDARD
END:VTIMEZONE
BEGIN:VEVENT
DTSTART;VALUE=DATE:20220317
DTEND;VALUE=DATE:20220318
DTSTAMP:20260420T124923
CREATED:20220216T171443Z
LAST-MODIFIED:20220216T171443Z
UID:20333-1647475200-1647561599@langebaanestate.co.za
SUMMARY:EARLY BIRD - GOLF MEMBERSHIP SPECIALS
DESCRIPTION:The Early Bird catches the Worm \nDon’t miss out on this amazing SPECIAL !
URL:https://langebaanestate.co.za/event/early-bird-golf-membership-specials-4/
END:VEVENT
BEGIN:VEVENT
DTSTART;VALUE=DATE:20220317
DTEND;VALUE=DATE:20220318
DTSTAMP:20260420T124923
CREATED:20220223T072822Z
LAST-MODIFIED:20220223T072822Z
UID:20431-1647475200-1647561599@langebaanestate.co.za
SUMMARY:MTB FUN RIDE - 20 MARCH 2022
DESCRIPTION:𝕄𝕋𝔹 𝔽𝕌ℕ ℝ𝕀𝔻𝔼\n\nSave the Date : 20 March 2022\n\n\n\nRegistration : 07H30 – LCE Driving Range\nStart : 08h00\nFEE : LCE MTB Members : R40 | Non-Members : R60\nIncludes FREE boerie roll & refreshment afterwards | Lucky Draw Prizes\n\n\n\nNEXT RIDE – 17 APRIL 2022
URL:https://langebaanestate.co.za/event/mtb-fun-ride-20-march-2022-4/
END:VEVENT
BEGIN:VEVENT
DTSTART;VALUE=DATE:20220317
DTEND;VALUE=DATE:20220318
DTSTAMP:20260420T124923
CREATED:20220303T141334Z
LAST-MODIFIED:20220303T141334Z
UID:20618-1647475200-1647561599@langebaanestate.co.za
SUMMARY:GOLF LESSONS WITH GAVIN VORSTER
DESCRIPTION:💥Book your Golf Lessons with PGA Professional Gavin Vorster💥 \n🏌️‍♀️ \n🏌️ \n🏌️‍♀️ \n🏌️ \nBookings Essential :  ☎️071 283 6013
URL:https://langebaanestate.co.za/event/golf-lessons-with-gavin-vorster-3/
END:VEVENT
BEGIN:VEVENT
DTSTART;VALUE=DATE:20220317
DTEND;VALUE=DATE:20220318
DTSTAMP:20260420T124923
CREATED:20220313T123708Z
LAST-MODIFIED:20220313T123708Z
UID:20703-1647475200-1647561599@langebaanestate.co.za
SUMMARY:LCE Weekly A-La-Carte Menu
DESCRIPTION:LCE Weekly A-La-Carte Menu \nFREE Delivery on the Estate | Takeaway | Collection | Sit-down \nOpen to the Public | Delivery available on DigiDude \nTrading Hours  \n12h00 – 19h30 on Mon | Tues | Thurs \n12h00 – 20h30 on Wed | Fri \n08h30 – 20h30 on Sat \n08h30 – 15h00 on Sun \nDelivery schedule \n12h00 – 18h00 on Mon | Tues | Wed | Thurs \n12h00 – 20h00 on Fri | Sat \n12h00 – 15h00 on Sun \nHappy Hour in our BLAZE BAR (Open daily) \nFriday – 19h00 – 20h00\nSaturday – 16h00 – 18h00\nSunday – 15h00 – 17h00 \n(not for sale to persons under the age of 18) \nAll Covid 19 Protocols are in place for your safety. \nKindly adhere to the Covid 19 Rules & Regulations : No Mask😷🚫 No Entry😷🚫 \nBooking Essential – To book your table or place order for collection or delivery  022 772 2112 \nThank you for your continuous support !
URL:https://langebaanestate.co.za/event/lce-weekly-a-la-carte-menu-37/
LOCATION:Langebaan Country Estate – Golf Course
END:VEVENT
BEGIN:VEVENT
DTSTART;VALUE=DATE:20220317
DTEND;VALUE=DATE:20220318
DTSTAMP:20260420T124923
CREATED:20220313T130648Z
LAST-MODIFIED:20220313T130648Z
UID:20719-1647475200-1647561599@langebaanestate.co.za
SUMMARY:CLUBHOUSE & PARKRUN NOTICE - 18 & 19 MARCH 2022
DESCRIPTION:
URL:https://langebaanestate.co.za/event/clubhouse-parkrun-notice-18-19-march-2022-4/
END:VEVENT
END:VCALENDAR