BEGIN:VCALENDAR
VERSION:2.0
PRODID:-//Langebaan Country Estate - ECPv6.15.20//NONSGML v1.0//EN
CALSCALE:GREGORIAN
METHOD:PUBLISH
X-ORIGINAL-URL:https://langebaanestate.co.za
X-WR-CALDESC:Events for Langebaan Country Estate
REFRESH-INTERVAL;VALUE=DURATION:PT1H
X-Robots-Tag:noindex
X-PUBLISHED-TTL:PT1H
BEGIN:VTIMEZONE
TZID:Africa/Johannesburg
BEGIN:STANDARD
TZOFFSETFROM:+0200
TZOFFSETTO:+0200
TZNAME:SAST
DTSTART:20210101T000000
END:STANDARD
END:VTIMEZONE
BEGIN:VEVENT
DTSTART;VALUE=DATE:20220226
DTEND;VALUE=DATE:20220227
DTSTAMP:20260421T152125
CREATED:20220207T140138Z
LAST-MODIFIED:20220207T140138Z
UID:20181-1645833600-1645919999@langebaanestate.co.za
SUMMARY:FOOTGOLF Fun at the Mashie
DESCRIPTION:
URL:https://langebaanestate.co.za/event/footgolf-fun-at-the-mashie-9/
END:VEVENT
BEGIN:VEVENT
DTSTART;VALUE=DATE:20220226
DTEND;VALUE=DATE:20220227
DTSTAMP:20260421T152125
CREATED:20220207T141504Z
LAST-MODIFIED:20220207T141504Z
UID:20199-1645833600-1645919999@langebaanestate.co.za
SUMMARY:PARKRUN - Every Saturday
DESCRIPTION:Keep Fit at LCE – Come & enjoy our 5km route on our beautiful Estate – Meet at the Soccer Field every Saturday at 08h00 \n 
URL:https://langebaanestate.co.za/event/parkrun-every-saturday-40/
LOCATION:Langebaan Country Estate – Golf Course
END:VEVENT
BEGIN:VEVENT
DTSTART;VALUE=DATE:20220226
DTEND;VALUE=DATE:20220227
DTSTAMP:20260421T152125
CREATED:20220218T211536Z
LAST-MODIFIED:20220218T211536Z
UID:20373-1645833600-1645919999@langebaanestate.co.za
SUMMARY:LADIES GOLF Coaching Sessions
DESCRIPTION:Calling all Ladies……… \nBook your spot | Bookings essential \n 
URL:https://langebaanestate.co.za/event/ladies-golf-coaching-sessions-16/
END:VEVENT
BEGIN:VEVENT
DTSTART;VALUE=DATE:20220226
DTEND;VALUE=DATE:20220227
DTSTAMP:20260421T152125
CREATED:20220220T140218Z
LAST-MODIFIED:20220220T140218Z
UID:20399-1645833600-1645919999@langebaanestate.co.za
SUMMARY:Saturday LCE Breakfast Menu | Saturday Night Burger Special & Gatsby
DESCRIPTION:LCE Breakfast Menu  \n \n  \nBurger Special \nBuy 1 Get 1 FREE Burger  – R89 \nChicken | Beef  \n \nGatsby \nGatsby with Chicken – R69 | Gatsby with Cheesy Russian – R79 | Gatsby with Masala Steak – R89 \n \nFREE Delivery on the Estate | Takeaway | Collection | Sit-down \nOpen to the Public | Delivery available on DigiDude \nTrading Hours  \n12h00 – 19h30 on Mon | Tues | Thurs \n12h00 – 20h30 on Wed | Fri \n08h30 – 20h30 on Sat \n08h30 – 15h00 on Sun \nDelivery schedule \n12h00 – 18h00 on Mon | Tues | Wed | Thurs \n12h00 – 20h00 on Fri | Sat \n12h00 – 15h00 on Sun \nOur Blaze Bar will be open daily for you to enjoy a drink or two \n(not for sale to persons under the age of 18) \nAll Covid 19 Protocols are in place for your safety. \nKindly adhere to the Covid 19 Rules & Regulations : No Mask😷🚫 No Entry😷🚫 \nBooking Essential – To book your table or place order for collection or delivery  022 772 2112 \nThank you for your continuous support ! \n  \n 
URL:https://langebaanestate.co.za/event/saturday-lce-breakfast-menu-saturday-night-burger-special-gatsby-4/
LOCATION:Langebaan Country Estate – Golf Course
END:VEVENT
END:VCALENDAR