BEGIN:VCALENDAR
VERSION:2.0
PRODID:-//Langebaan Country Estate - ECPv6.15.20//NONSGML v1.0//EN
CALSCALE:GREGORIAN
METHOD:PUBLISH
X-WR-CALNAME:Langebaan Country Estate
X-ORIGINAL-URL:https://langebaanestate.co.za
X-WR-CALDESC:Events for Langebaan Country Estate
REFRESH-INTERVAL;VALUE=DURATION:PT1H
X-Robots-Tag:noindex
X-PUBLISHED-TTL:PT1H
BEGIN:VTIMEZONE
TZID:Africa/Johannesburg
BEGIN:STANDARD
TZOFFSETFROM:+0200
TZOFFSETTO:+0200
TZNAME:SAST
DTSTART:20210101T000000
END:STANDARD
END:VTIMEZONE
BEGIN:VEVENT
DTSTART;VALUE=DATE:20220225
DTEND;VALUE=DATE:20220226
DTSTAMP:20260421T121014
CREATED:20220207T125223Z
LAST-MODIFIED:20220207T125740Z
UID:20141-1645747200-1645833599@langebaanestate.co.za
SUMMARY:JUNIOR Golf Academy
DESCRIPTION:Junior Golf Academy – Contact Grant – 079 563 3491 \n 
URL:https://langebaanestate.co.za/event/junior-golf-academy-5/
END:VEVENT
BEGIN:VEVENT
DTSTART;VALUE=DATE:20220225
DTEND;VALUE=DATE:20220226
DTSTAMP:20260421T121014
CREATED:20220207T134253Z
LAST-MODIFIED:20220207T134253Z
UID:20160-1645747200-1645833599@langebaanestate.co.za
SUMMARY:KIDDIES PARTY'S | LITTLE CHEF
DESCRIPTION:
URL:https://langebaanestate.co.za/event/kiddies-partys-little-chef-6/
END:VEVENT
BEGIN:VEVENT
DTSTART;VALUE=DATE:20220225
DTEND;VALUE=DATE:20220226
DTSTAMP:20260421T121014
CREATED:20220210T173430Z
LAST-MODIFIED:20220610T122640Z
UID:20247-1645747200-1645833599@langebaanestate.co.za
SUMMARY:LCE Monthly Braai & Live Entertainment
DESCRIPTION:
URL:https://langebaanestate.co.za/event/lce-monthly-braai-live-entertainment-6/
LOCATION:Langebaan Country Estate – Golf Course
END:VEVENT
BEGIN:VEVENT
DTSTART;VALUE=DATE:20220225
DTEND;VALUE=DATE:20220226
DTSTAMP:20260421T121014
CREATED:20220219T063318Z
LAST-MODIFIED:20220219T063318Z
UID:20380-1645747200-1645833599@langebaanestate.co.za
SUMMARY:SOLDATO CAFE Driving Range
DESCRIPTION:Pop round to the Driving Range Soldato Cafe\, for some festive fun.\n\n\n\nSituated in the Langebaan Country Estate\, come & enjoy the 𝔽𝔼𝔹ℝ𝕌𝔸ℝ𝕐 𝔹𝔸ℂ𝕂𝕐𝔸ℝ𝔻 𝔹𝔸ℝ𝔹𝔼ℚ𝕌𝔼 on Sunday 27 February 2022.\n\n\nBookings are essential : 022 772 2112 | soldatocoffee@gmail.com
URL:https://langebaanestate.co.za/event/soldato-cafe-driving-range-3/
END:VEVENT
BEGIN:VEVENT
DTSTART;VALUE=DATE:20220225
DTEND;VALUE=DATE:20220226
DTSTAMP:20260421T121014
CREATED:20220220T140103Z
LAST-MODIFIED:20220220T140103Z
UID:20397-1645747200-1645833599@langebaanestate.co.za
SUMMARY:Friday Night LCE Pizza Menu & Special
DESCRIPTION:Pizza Menu \n \nPizza Special \nBuy 2 or more Pizza’s & receive a FREE Garlic & Feta Focaccia \n \nFREE Delivery on the Estate | Takeaway | Collection | Sit-down \nOpen to the Public | Delivery available on DigiDude \nTrading Hours  \n12h00 – 19h30 on Mon | Tues | Thurs \n12h00 – 20h30 on Wed | Fri \n08h30 – 20h30 on Sat \n08h30 – 15h00 on Sun \nDelivery schedule \n12h00 – 18h00 on Mon | Tues | Wed | Thurs \n12h00 – 20h00 on Fri | Sat \n12h00 – 15h00 on Sun \nOur Blaze Bar will be open daily for you to enjoy a drink or two \n(not for sale to persons under the age of 18) \nAll Covid 19 Protocols are in place for your safety. \nKindly adhere to the Covid 19 Rules & Regulations : No Mask😷🚫 No Entry😷🚫 \nBooking Essential – To book your table or place order for collection or delivery  022 772 2112 \nThank you for your continuous support ! \n  \n 
URL:https://langebaanestate.co.za/event/friday-night-lce-pizza-menu-special-4/
LOCATION:Langebaan Country Estate – Golf Course
END:VEVENT
BEGIN:VEVENT
DTSTART;VALUE=DATE:20220225
DTEND;VALUE=DATE:20220226
DTSTAMP:20260421T121014
CREATED:20220225T035117Z
LAST-MODIFIED:20220302T152239Z
UID:20478-1645747200-1645833599@langebaanestate.co.za
SUMMARY:LCE CLUB CHAMPS - 02 & 03 APRIL 2022
DESCRIPTION:LCE CLUB CHAMPIONSHIPS – LCE MEMBERS \n\n\n\n\n02 & 03 APRIL 2022\nCLOSING DATE – 27 MARCH 2022 \n  \n 
URL:https://langebaanestate.co.za/event/lce-club-champs-02-03-april-2022/
END:VEVENT
END:VCALENDAR