BEGIN:VCALENDAR
VERSION:2.0
PRODID:-//Langebaan Country Estate - ECPv6.15.20//NONSGML v1.0//EN
CALSCALE:GREGORIAN
METHOD:PUBLISH
X-WR-CALNAME:Langebaan Country Estate
X-ORIGINAL-URL:https://langebaanestate.co.za
X-WR-CALDESC:Events for Langebaan Country Estate
REFRESH-INTERVAL;VALUE=DURATION:PT1H
X-Robots-Tag:noindex
X-PUBLISHED-TTL:PT1H
BEGIN:VTIMEZONE
TZID:Africa/Johannesburg
BEGIN:STANDARD
TZOFFSETFROM:+0200
TZOFFSETTO:+0200
TZNAME:SAST
DTSTART:20210101T000000
END:STANDARD
END:VTIMEZONE
BEGIN:VEVENT
DTSTART;VALUE=DATE:20220223
DTEND;VALUE=DATE:20220224
DTSTAMP:20260421T054548
CREATED:20220214T142807Z
LAST-MODIFIED:20220214T142936Z
UID:20292-1645574400-1645660799@langebaanestate.co.za
SUMMARY:WEDNESDAY Rewards Card
DESCRIPTION: 
URL:https://langebaanestate.co.za/event/wednesday-loyalty-card/
LOCATION:Langebaan Country Estate – Golf Course
END:VEVENT
BEGIN:VEVENT
DTSTART;VALUE=DATE:20220223
DTEND;VALUE=DATE:20220224
DTSTAMP:20260421T054548
CREATED:20220218T211436Z
LAST-MODIFIED:20220218T211436Z
UID:20371-1645574400-1645660799@langebaanestate.co.za
SUMMARY:LADIES GOLF Coaching Sessions
DESCRIPTION:Calling all Ladies……… \nBook your spot | Bookings essential \n 
URL:https://langebaanestate.co.za/event/ladies-golf-coaching-sessions-15/
END:VEVENT
BEGIN:VEVENT
DTSTART;VALUE=DATE:20220223
DTEND;VALUE=DATE:20220224
DTSTAMP:20260421T054548
CREATED:20220223T072237Z
LAST-MODIFIED:20220223T072335Z
UID:20425-1645574400-1645660799@langebaanestate.co.za
SUMMARY:MTB FUN RIDE - 20 MARCH 2022
DESCRIPTION:𝕄𝕋𝔹 𝔽𝕌ℕ ℝ𝕀𝔻𝔼\n\nSave the Date : 20 March 2022\n\n\n\nRegistration : 07H30 – LCE Driving Range\nStart : 08h00\nFEE : LCE MTB Members : R40 | Non-Members : R60\nIncludes FREE boerie roll & refreshment afterwards | Lucky Draw Prizes\n\n\n\nNEXT RIDE – 17 APRIL 2022
URL:https://langebaanestate.co.za/event/mtb-fun-ride-20-march-2022/
END:VEVENT
BEGIN:VEVENT
DTSTART;VALUE=DATE:20220223
DTEND;VALUE=DATE:20220224
DTSTAMP:20260421T054548
CREATED:20220223T074633Z
LAST-MODIFIED:20220223T074633Z
UID:20436-1645574400-1645660799@langebaanestate.co.za
SUMMARY:2022 PLAY & EAT PACKAGES
DESCRIPTION:Book your ℙ𝕃𝔸𝕐 & 𝔼𝔸𝕋 Package\n\n\n\nMidweek &️ Weekend Packages.\n\n\n\nValid from 01 March 2022 until 14 December 2022 | Subject to availability | T’s & C’s apply\n\n\n\nContact :  022 772 2112 | catering@LCE.co.za
URL:https://langebaanestate.co.za/event/2022-play-eat-packages/
END:VEVENT
BEGIN:VEVENT
DTSTART;VALUE=DATE:20220223
DTEND;VALUE=DATE:20220224
DTSTAMP:20260421T054548
CREATED:20220228T065934Z
LAST-MODIFIED:20220228T065934Z
UID:20536-1645574400-1645660799@langebaanestate.co.za
SUMMARY:WEDNESDAY Dinner Specials
DESCRIPTION:FREE Delivery on the Estate | Takeaway | Collection | Sit-down \nOpen to the Public | Delivery available on DigiDude \nTrading Hours  \n12h00 – 19h30 on Mon | Tues | Thurs \n12h00 – 20h30 on Wed | Fri \n08h30 – 20h30 on Sat \n08h30 – 15h00 on Sun \nDelivery schedule \n12h00 – 18h00 on Mon | Tues | Wed | Thurs \n12h00 – 20h00 on Fri | Sat \n12h00 – 15h00 on Sun \nHappy Hour in our BLAZE BAR (Open daily)\nFriday – 19h00 – 20h00\nSaturday – 16h00 – 18h00\nSunday – 15h00 – 17h00 \n(not for sale to persons under the age of 18) \nAll Covid 19 Protocols are in place for your safety. \nKindly adhere to the Covid 19 Rules & Regulations : No Mask😷🚫 No Entry😷🚫 \nBooking Essential – To book your table or place order for collection or delivery  022 772 2112 \nThank you for your continuous support !
URL:https://langebaanestate.co.za/event/wednesday-dinner-specials-3/
LOCATION:Langebaan Country Estate – Golf Course
END:VEVENT
END:VCALENDAR