BEGIN:VCALENDAR
VERSION:2.0
PRODID:-//Langebaan Country Estate - ECPv6.15.20//NONSGML v1.0//EN
CALSCALE:GREGORIAN
METHOD:PUBLISH
X-WR-CALNAME:Langebaan Country Estate
X-ORIGINAL-URL:https://langebaanestate.co.za
X-WR-CALDESC:Events for Langebaan Country Estate
REFRESH-INTERVAL;VALUE=DURATION:PT1H
X-Robots-Tag:noindex
X-PUBLISHED-TTL:PT1H
BEGIN:VTIMEZONE
TZID:Africa/Johannesburg
BEGIN:STANDARD
TZOFFSETFROM:+0200
TZOFFSETTO:+0200
TZNAME:SAST
DTSTART:20210101T000000
END:STANDARD
END:VTIMEZONE
BEGIN:VEVENT
DTSTART;VALUE=DATE:20220219
DTEND;VALUE=DATE:20220220
DTSTAMP:20260421T054548
CREATED:20220207T140006Z
LAST-MODIFIED:20220207T140006Z
UID:20175-1645228800-1645315199@langebaanestate.co.za
SUMMARY:FOOTGOLF Fun at the Mashie
DESCRIPTION:
URL:https://langebaanestate.co.za/event/footgolf-fun-at-the-mashie-6/
END:VEVENT
BEGIN:VEVENT
DTSTART;VALUE=DATE:20220219
DTEND;VALUE=DATE:20220220
DTSTAMP:20260421T054548
CREATED:20220207T140612Z
LAST-MODIFIED:20220207T140612Z
UID:20191-1645228800-1645315199@langebaanestate.co.za
SUMMARY:PARKRUN - Every Saturday
DESCRIPTION:Keep Fit at LCE – Come & enjoy our 5km route on our beautiful Estate – Meet at the Soccer Field every Saturday at 08h00 \n 
URL:https://langebaanestate.co.za/event/parkrun-every-saturday-36/
LOCATION:Langebaan Country Estate – Golf Course
END:VEVENT
BEGIN:VEVENT
DTSTART;VALUE=DATE:20220219
DTEND;VALUE=DATE:20220220
DTSTAMP:20260421T054548
CREATED:20220214T143917Z
LAST-MODIFIED:20220214T143917Z
UID:20308-1645228800-1645315199@langebaanestate.co.za
SUMMARY:LCE Weekly A-La-Carte Menu
DESCRIPTION:LCE Weekly A-La-Carte Menu \nFREE Delivery on the Estate | Takeaway | Collection | Sit-down \nOpen to the Public | Delivery available on DigiDude \nTrading Hours  \n12h00 – 19h30 on Mon | Tues | Thurs \n12h00 – 20h30 on Wed | Fri \n08h30 – 20h30 on Sat \n08h30 – 15h00 on Sun \nDelivery schedule \n12h00 – 18h00 on Mon | Tues | Wed | Thurs \n12h00 – 20h00 on Fri | Sat \n12h00 – 15h00 on Sun \nOur Blaze Bar will be open daily for you to enjoy a drink or two \n(not for sale to persons under the age of 18) \nAll Covid 19 Protocols are in place for your safety. \nKindly adhere to the Covid 19 Rules & Regulations : No Mask😷🚫 No Entry😷🚫 \nBooking Essential – To book your table or place order for collection or delivery  022 772 2112 \nThank you for your continuous support !
URL:https://langebaanestate.co.za/event/lce-weekly-a-la-carte-menu-19/
LOCATION:Langebaan Country Estate – Golf Course
END:VEVENT
BEGIN:VEVENT
DTSTART;VALUE=DATE:20220219
DTEND;VALUE=DATE:20220220
DTSTAMP:20260421T054548
CREATED:20220214T144417Z
LAST-MODIFIED:20220214T144417Z
UID:20316-1645228800-1645315199@langebaanestate.co.za
SUMMARY:Saturday LCE Breakfast Menu | Saturday Night Burger Special & Gatsby
DESCRIPTION:LCE Breakfast Menu  \n \n  \nBurger Special \nBuy 1 Get 1 FREE Burger  – R89 \nChicken | Beef  \n \nGatsby \nGatsby with Chicken – R69 | Gatsby with Cheesy Russian – R79 | Gatsby with Masala Steak – R89 \n \nFREE Delivery on the Estate | Takeaway | Collection | Sit-down \nOpen to the Public | Delivery available on DigiDude \nTrading Hours  \n12h00 – 19h30 on Mon | Tues | Thurs \n12h00 – 20h30 on Wed | Fri \n08h30 – 20h30 on Sat \n08h30 – 15h00 on Sun \nDelivery schedule \n12h00 – 18h00 on Mon | Tues | Wed | Thurs \n12h00 – 20h00 on Fri | Sat \n12h00 – 15h00 on Sun \nOur Blaze Bar will be open daily for you to enjoy a drink or two \n(not for sale to persons under the age of 18) \nAll Covid 19 Protocols are in place for your safety. \nKindly adhere to the Covid 19 Rules & Regulations : No Mask😷🚫 No Entry😷🚫 \nBooking Essential – To book your table or place order for collection or delivery  022 772 2112 \nThank you for your continuous support ! \n  \n 
URL:https://langebaanestate.co.za/event/saturday-lce-breakfast-menu-saturday-night-burger-special-gatsby-3/
LOCATION:Langebaan Country Estate – Golf Course
END:VEVENT
END:VCALENDAR