BEGIN:VCALENDAR
VERSION:2.0
PRODID:-//Langebaan Country Estate - ECPv6.15.20//NONSGML v1.0//EN
CALSCALE:GREGORIAN
METHOD:PUBLISH
X-ORIGINAL-URL:https://langebaanestate.co.za
X-WR-CALDESC:Events for Langebaan Country Estate
REFRESH-INTERVAL;VALUE=DURATION:PT1H
X-Robots-Tag:noindex
X-PUBLISHED-TTL:PT1H
BEGIN:VTIMEZONE
TZID:Africa/Johannesburg
BEGIN:STANDARD
TZOFFSETFROM:+0200
TZOFFSETTO:+0200
TZNAME:SAST
DTSTART:20210101T000000
END:STANDARD
END:VTIMEZONE
BEGIN:VEVENT
DTSTART;VALUE=DATE:20220130
DTEND;VALUE=DATE:20220131
DTSTAMP:20260421T054545
CREATED:20220124T115754Z
LAST-MODIFIED:20220124T120442Z
UID:19871-1643500800-1643587199@langebaanestate.co.za
SUMMARY:Sunday LCE Breakfast Menu | Sunday Lunch Menu
DESCRIPTION:Breakfast Menu  \n \nSunday Lunch Menu \n \nFREE Delivery on the Estate | Takeaway | Collection | Sit-down \nOpen to the Public | Delivery available on DigiDude \nTrading Hours  \n12h00 – 19h30 on Mon | Tues | Thurs \n12h00 – 20h30 on Wed | Fri \n08h30 – 20h30 on Sat \n08h30 – 15h00 on Sun \nDelivery schedule \n12h00 – 18h00 on Mon | Tues | Wed | Thurs \n12h00 – 20h00 on Fri | Sat \n12h00 – 15h00 on Sun \nOur Blaze Bar will be open daily for you to enjoy a drink or two \n(not for sale to persons under the age of 18) \nAll Covid 19 Protocols are in place for your safety. \nKindly adhere to the Covid 19 Rules & Regulations : No Mask😷🚫 No Entry😷🚫 \nBooking Essential – To book your table or place order for collection or delivery  022 772 2112 \nThank you for your continuous support !
URL:https://langebaanestate.co.za/event/sunday-lce-breakfast-menu-sunday-lunch-menu/
LOCATION:Langebaan Country Estate – Golf Course
END:VEVENT
BEGIN:VEVENT
DTSTART;VALUE=DATE:20220130
DTEND;VALUE=DATE:20220131
DTSTAMP:20260421T054545
CREATED:20220124T121910Z
LAST-MODIFIED:20220124T122640Z
UID:19892-1643500800-1643587199@langebaanestate.co.za
SUMMARY:LCE VALENTINE'S DINNER - 14 FEBRUARY 2022
DESCRIPTION:LOVE IS IN THE AIR \nPlease join us & feel the LOVE at LCE on Valentine’s Day ! \nBooking Essential – 022 772 2112 | 50% Deposit required to secure your table \n 
URL:https://langebaanestate.co.za/event/lce-valentines-dinner-14-february-2022-5/
END:VEVENT
BEGIN:VEVENT
DTSTART;VALUE=DATE:20220130
DTEND;VALUE=DATE:20220131
DTSTAMP:20260421T054545
CREATED:20220124T123751Z
LAST-MODIFIED:20220124T123751Z
UID:19928-1643500800-1643587199@langebaanestate.co.za
SUMMARY:BLACKBOARD SPECIAL
DESCRIPTION:This week’s Blackboard Special is one NOT to miss out on !
URL:https://langebaanestate.co.za/event/blackboard-special-7/
END:VEVENT
BEGIN:VEVENT
DTSTART;VALUE=DATE:20220130
DTEND;VALUE=DATE:20220131
DTSTAMP:20260421T054545
CREATED:20220124T130627Z
LAST-MODIFIED:20220124T130907Z
UID:19934-1643500800-1643587199@langebaanestate.co.za
SUMMARY:NATIONAL Croissant Day
DESCRIPTION:Coffee & Croissant – We have a variety of Croissants to choose from\, so come & Celebrate National Croissant Day with a delicious cup of Coffee \n 
URL:https://langebaanestate.co.za/event/national-croissant-day/
END:VEVENT
END:VCALENDAR