BEGIN:VCALENDAR
VERSION:2.0
PRODID:-//Langebaan Country Estate - ECPv6.15.20//NONSGML v1.0//EN
CALSCALE:GREGORIAN
METHOD:PUBLISH
X-WR-CALNAME:Langebaan Country Estate
X-ORIGINAL-URL:https://langebaanestate.co.za
X-WR-CALDESC:Events for Langebaan Country Estate
REFRESH-INTERVAL;VALUE=DURATION:PT1H
X-Robots-Tag:noindex
X-PUBLISHED-TTL:PT1H
BEGIN:VTIMEZONE
TZID:Africa/Johannesburg
BEGIN:STANDARD
TZOFFSETFROM:+0200
TZOFFSETTO:+0200
TZNAME:SAST
DTSTART:20210101T000000
END:STANDARD
END:VTIMEZONE
BEGIN:VEVENT
DTSTART;VALUE=DATE:20220124
DTEND;VALUE=DATE:20220125
DTSTAMP:20260421T121027
CREATED:20220124T112441Z
LAST-MODIFIED:20220124T115012Z
UID:19845-1642982400-1643068799@langebaanestate.co.za
SUMMARY:LCE Weekly A-La-Carte Menu
DESCRIPTION:LCE Weekly A-La-Carte Menu \n \nFREE Delivery on the Estate | Takeaway | Collection | Sit-down \nOpen to the Public | Delivery available on DigiDude \nTrading Hours  \n12h00 – 19h30 on Mon | Tues | Thurs \n12h00 – 20h30 on Wed | Fri \n08h30 – 20h30 on Sat \n08h30 – 15h00 on Sun \nDelivery schedule \n12h00 – 18h00 on Mon | Tues | Wed | Thurs \n12h00 – 20h00 on Fri | Sat \n12h00 – 15h00 on Sun \nOur Blaze Bar will be open daily for you to enjoy a drink or two \n(not for sale to persons under the age of 18) \nAll Covid 19 Protocols are in place for your safety. \nKindly adhere to the Covid 19 Rules & Regulations : No Mask😷🚫 No Entry😷🚫 \nBooking Essential – To book your table or place order for collection or delivery  022 772 2112 \nThank you for your continuous support !
URL:https://langebaanestate.co.za/event/lce-weekly-a-la-carte-menu/
LOCATION:Langebaan Country Estate – Golf Course
END:VEVENT
BEGIN:VEVENT
DTSTART;VALUE=DATE:20220124
DTEND;VALUE=DATE:20220125
DTSTAMP:20260421T121027
CREATED:20220124T120618Z
LAST-MODIFIED:20220124T120618Z
UID:19876-1642982400-1643068799@langebaanestate.co.za
SUMMARY:PARKRUN - Every Saturday
DESCRIPTION:Keep Fit at LCE – Come & enjoy our 5km route on our beautiful Estate – Meet at the Soccer Field every Saturday at 08h00 \n 
URL:https://langebaanestate.co.za/event/parkrun-every-saturday-21/
LOCATION:Langebaan Country Estate – Golf Course
END:VEVENT
BEGIN:VEVENT
DTSTART;VALUE=DATE:20220124
DTEND;VALUE=DATE:20220125
DTSTAMP:20260421T121027
CREATED:20220124T121656Z
LAST-MODIFIED:20220124T122401Z
UID:19884-1642982400-1643068799@langebaanestate.co.za
SUMMARY:LCE VALENTINE'S DINNER - 14 FEBRUARY 2022
DESCRIPTION:LOVE IS IN THE AIR \nPlease join us & feel the LOVE at LCE on Valentine’s Day ! \nBooking Essential – 022 772 2112 | 50% Deposit required to secure your table \n 
URL:https://langebaanestate.co.za/event/lce-valentines-dinner-14-february-2022/
END:VEVENT
BEGIN:VEVENT
DTSTART;VALUE=DATE:20220124
DTEND;VALUE=DATE:20220125
DTSTAMP:20260421T121027
CREATED:20220124T123516Z
LAST-MODIFIED:20220124T123516Z
UID:19916-1642982400-1643068799@langebaanestate.co.za
SUMMARY:BLACKBOARD SPECIAL
DESCRIPTION:This week’s Blackboard Special is one NOT to miss out on !
URL:https://langebaanestate.co.za/event/blackboard-special/
END:VEVENT
END:VCALENDAR