BEGIN:VCALENDAR
VERSION:2.0
PRODID:-//Langebaan Country Estate - ECPv6.15.20//NONSGML v1.0//EN
CALSCALE:GREGORIAN
METHOD:PUBLISH
X-WR-CALNAME:Langebaan Country Estate
X-ORIGINAL-URL:https://langebaanestate.co.za
X-WR-CALDESC:Events for Langebaan Country Estate
REFRESH-INTERVAL;VALUE=DURATION:PT1H
X-Robots-Tag:noindex
X-PUBLISHED-TTL:PT1H
BEGIN:VTIMEZONE
TZID:Africa/Johannesburg
BEGIN:STANDARD
TZOFFSETFROM:+0200
TZOFFSETTO:+0200
TZNAME:SAST
DTSTART:20210101T000000
END:STANDARD
END:VTIMEZONE
BEGIN:VEVENT
DTSTART;VALUE=DATE:20220123
DTEND;VALUE=DATE:20220124
DTSTAMP:20260421T074449
CREATED:20220116T120354Z
LAST-MODIFIED:20220117T172204Z
UID:19688-1642896000-1642982399@langebaanestate.co.za
SUMMARY:Breakfast Menu | Sunday Lunch Menu
DESCRIPTION:Breakfast Menu  \n \nSunday Lunch Menu \n \nThe LCE Horizon Restaurant \nOpen for Breakfast every Saturday & Sunday from 08h30 until 11h00 |  Sunday Lunch Menu is available from 12h00 until 15h00 \nFREE Delivery on the Estate | Takeaway | Collection \nOpen to the Public | Delivery available on DigiDude \nTrading Hours  \n12h00 – 19h30 on Mon | Tues | Thurs \n12h00 – 20h30 on Wed | Fri \n08h30 – 20h30 on Sat \n08h30 – 15h00 on Sun \nDelivery schedule \n12h00 – 18h00 on Mon | Tues | Wed | Thurs \n12h00 – 20h00 on Fri | Sat \n12h00 – 15h00 on Sun \nOur Blaze Bar will be open daily for you to enjoy a drink or two \n(not for sale to persons under the age of 18) \nAll Covid 19 Protocols are in place for your safety. \nKindly adhere to the Covid 19 Rules & Regulations : No Mask😷🚫 No Entry😷🚫 \nBooking Essential – To book your table or place order for collection or delivery  022 772 2112 \nThank you for your continuous support !
URL:https://langebaanestate.co.za/event/breakfast-menu-sunday-lunch-menu-3/
LOCATION:Langebaan Country Estate – Golf Course
END:VEVENT
END:VCALENDAR