BEGIN:VCALENDAR
VERSION:2.0
PRODID:-//Langebaan Country Estate - ECPv6.15.20//NONSGML v1.0//EN
CALSCALE:GREGORIAN
METHOD:PUBLISH
X-ORIGINAL-URL:https://langebaanestate.co.za
X-WR-CALDESC:Events for Langebaan Country Estate
REFRESH-INTERVAL;VALUE=DURATION:PT1H
X-Robots-Tag:noindex
X-PUBLISHED-TTL:PT1H
BEGIN:VTIMEZONE
TZID:Africa/Johannesburg
BEGIN:STANDARD
TZOFFSETFROM:+0200
TZOFFSETTO:+0200
TZNAME:SAST
DTSTART:20200101T000000
END:STANDARD
END:VTIMEZONE
BEGIN:VEVENT
DTSTART;VALUE=DATE:20211213
DTEND;VALUE=DATE:20211214
DTSTAMP:20260421T025635
CREATED:20211121T140344Z
LAST-MODIFIED:20211121T142851Z
UID:19312-1639353600-1639439999@langebaanestate.co.za
SUMMARY:CHRISTMAS EVE DINNER - Friday - 24 December 2021
DESCRIPTION:Christmas Eve Dinner – Friday – 24 December 2021  \nFeast yourself this Christmas with us at LCE – we are open for Sit Down in our Horizon Restaurant for Christmas Eve Dinner from 18h00 – 21h00 \nDon’t miss out\, bookings are essential & going quickly – To book your table   022 772 2112 \n🎄🎁🎄🎁
URL:https://langebaanestate.co.za/event/christmas-eve-dinner-friday-24-december-2021-7/
LOCATION:Langebaan Country Estate – Golf Course
END:VEVENT
BEGIN:VEVENT
DTSTART;VALUE=DATE:20211213
DTEND;VALUE=DATE:20211214
DTSTAMP:20260421T025635
CREATED:20211128T161753Z
LAST-MODIFIED:20211128T161753Z
UID:19379-1639353600-1639439999@langebaanestate.co.za
SUMMARY:REMINDER - PARKRUN - Every Saturday
DESCRIPTION:REMINDER – Our Parkrun is back in action every Saturday – 08h00 \n 
URL:https://langebaanestate.co.za/event/reminder-parkrun-every-saturday-14/
LOCATION:Langebaan Country Estate – Golf Course
END:VEVENT
BEGIN:VEVENT
DTSTART;VALUE=DATE:20211213
DTEND;VALUE=DATE:20211214
DTSTAMP:20260421T025635
CREATED:20211212T092531Z
LAST-MODIFIED:20211212T092531Z
UID:19454-1639353600-1639439999@langebaanestate.co.za
SUMMARY:LCE Weekly Menu
DESCRIPTION:LCE Weekly Menu  \n \nSunday Lunch Menu \n \nThe LCE Horizon Restaurant \nOpen Monday to Thursday for sit-down from 12h00 until 20h30 | Friday & Saturday from 12h00 until 21h00 | Sunday from 12h00 until 15h00 \nFREE Delivery on the Estate | Takeaway | Collection \nOpen to the Public | Delivery available on DigiDude \n12h00 – 19h00 on Mon | Tues | Wed | Thurs \n12h00 – 20h00 on Fri | Sat \n12h00 – 15h00 on Sun \nOur Blaze Bar will be open daily for you to enjoy a drink or two \n(not for sale to persons under the age of 18) \nAll Covid 19 Protocols are in place for your safety. \nKindly adhere to the Covid 19 Rules & Regulations : No Mask😷🚫 No Entry😷🚫 \nBooking Essential – To book your table or place order for collection or delivery  022 772 2112 \nThank you for your continuous support !
URL:https://langebaanestate.co.za/event/lce-weekly-menu-95/
LOCATION:Langebaan Country Estate – Golf Course
END:VEVENT
BEGIN:VEVENT
DTSTART;VALUE=DATE:20211213
DTEND;VALUE=DATE:20211214
DTSTAMP:20260421T025635
CREATED:20211212T093726Z
LAST-MODIFIED:20211212T093726Z
UID:19469-1639353600-1639439999@langebaanestate.co.za
SUMMARY:Breakfast Menu
DESCRIPTION:Breakfast is Served ! \n \nThe LCE Horizon Restaurant \nOur Breakfast Menu is available daily from 08h30 until 11h00 \nOpen to the Public \nAll Covid 19 Protocols are in place for your safety. \nKindly adhere to the Covid 19 Rules & Regulations : No Mask😷🚫 No Entry😷🚫 \nBooking Essential – To book your table or place order for collection or delivery  022 772 2112 \nThank you for your continuous support !
URL:https://langebaanestate.co.za/event/breakfast-menu/
LOCATION:Langebaan Country Estate – Golf Course
END:VEVENT
END:VCALENDAR