BEGIN:VCALENDAR
VERSION:2.0
PRODID:-//Langebaan Country Estate - ECPv6.15.20//NONSGML v1.0//EN
CALSCALE:GREGORIAN
METHOD:PUBLISH
X-WR-CALNAME:Langebaan Country Estate
X-ORIGINAL-URL:https://langebaanestate.co.za
X-WR-CALDESC:Events for Langebaan Country Estate
REFRESH-INTERVAL;VALUE=DURATION:PT1H
X-Robots-Tag:noindex
X-PUBLISHED-TTL:PT1H
BEGIN:VTIMEZONE
TZID:Africa/Johannesburg
BEGIN:STANDARD
TZOFFSETFROM:+0200
TZOFFSETTO:+0200
TZNAME:SAST
DTSTART:20200101T000000
END:STANDARD
END:VTIMEZONE
BEGIN:VEVENT
DTSTART;VALUE=DATE:20211203
DTEND;VALUE=DATE:20211204
DTSTAMP:20260421T121016
CREATED:20211121T135923Z
LAST-MODIFIED:20211121T142712Z
UID:19305-1638489600-1638575999@langebaanestate.co.za
SUMMARY:CHRISTMAS EVE DINNER - Friday - 24 December 2021
DESCRIPTION:Christmas Eve Dinner – Friday – 24 December 2021  \nFeast yourself this Christmas with us at LCE – we are open for Sit Down in our Horizon Restaurant for Christmas Eve Dinner from 18h00 – 21h00 \nDon’t miss out\, bookings are essential & going quickly – To book your table   022 772 2112 \n🎄🎁🎄🎁
URL:https://langebaanestate.co.za/event/christmas-eve-dinner-friday-24-december-2021-4/
LOCATION:Langebaan Country Estate – Golf Course
END:VEVENT
BEGIN:VEVENT
DTSTART;VALUE=DATE:20211203
DTEND;VALUE=DATE:20211204
DTSTAMP:20260421T121016
CREATED:20211202T140337Z
LAST-MODIFIED:20211202T140337Z
UID:19405-1638489600-1638575999@langebaanestate.co.za
SUMMARY:BINGO EVENING
DESCRIPTION:Please support LAC & join us for a fun filled night of BINGO\n\n\n\n* Thursday – 09 December 2021 at 18h30\n* Venue : Langebaan Country Estate – Horizon Restaurant\n* RSVP – by the 07 December 2021 – 082 441 2585\n\n\n\n#bingovibes #LCEsupport #LACsupport #wearyourmask #deliciousfood #westcoastvibe #bingo\n\n  \n \n  \n  \n  \n 
URL:https://langebaanestate.co.za/event/bingo-evening-11/
LOCATION:Langebaan Country Estate – Golf Course
END:VEVENT
BEGIN:VEVENT
DTSTART;VALUE=DATE:20211203
DTEND;VALUE=DATE:20211204
DTSTAMP:20260421T121016
CREATED:20211204T141508Z
LAST-MODIFIED:20211204T141508Z
UID:19424-1638489600-1638575999@langebaanestate.co.za
SUMMARY:PIZZA NIGHT | LCE Weekly Menu
DESCRIPTION:PIZZA NIGHT \nLCE WEEKLY MENU \nThis week we are open for Sit Down in our Horizon Restaurant Monday to Friday from 12h00 – 21h00. \nOpen to the Public for Takeaways\, delivery available on DigiDude | Collection | FREE Delivery on the Estate \nBooking Essential – To book your table or place order for collection or delivery  022 772 2112 \nThank you for your continuous support ! \nPLEASE NOTE : \nLCE CLUB CHAMPS – 04th & 05th of December 2021 \nOur Saturday Night Burger Special is available for Delivery & Collection Only \nOur Horizon Restaurant is CLOSED on the 05th of December 2021 for Sunday Lunch.  Sitdown\, takeaway\, delivery & collection will not be available.   \nWe apologise for any inconvenience caused \n  \n  \n 
URL:https://langebaanestate.co.za/event/pizza-night-lce-weekly-menu-16/
LOCATION:Langebaan Country Estate – Golf Course
END:VEVENT
END:VCALENDAR