BEGIN:VCALENDAR
VERSION:2.0
PRODID:-//Langebaan Country Estate - ECPv6.15.20//NONSGML v1.0//EN
CALSCALE:GREGORIAN
METHOD:PUBLISH
X-WR-CALNAME:Langebaan Country Estate
X-ORIGINAL-URL:https://langebaanestate.co.za
X-WR-CALDESC:Events for Langebaan Country Estate
REFRESH-INTERVAL;VALUE=DURATION:PT1H
X-Robots-Tag:noindex
X-PUBLISHED-TTL:PT1H
BEGIN:VTIMEZONE
TZID:Africa/Johannesburg
BEGIN:STANDARD
TZOFFSETFROM:+0200
TZOFFSETTO:+0200
TZNAME:SAST
DTSTART:20200101T000000
END:STANDARD
END:VTIMEZONE
BEGIN:VEVENT
DTSTART;VALUE=DATE:20211201
DTEND;VALUE=DATE:20211202
DTSTAMP:20260421T121032
CREATED:20211128T143909Z
LAST-MODIFIED:20211128T163150Z
UID:19349-1638316800-1638403199@langebaanestate.co.za
SUMMARY:LCE Weekly Menu
DESCRIPTION:LCE Weekly Menu : \nThis week we are open for Sit Down in our Horizon Restaurant Monday to Friday from 12h00 – 21h00. \nOpen to the Public for Takeaways\, delivery available on DigiDude | Collection | FREE Delivery on the Estate \nBooking Essential – To book your table or place order for collection or delivery  022 772 2112 \nThank you for your continuous support ! \nPLEASE NOTE : \nLCE CLUB CHAMPS – 04th & 05th of December 2021 \nOur Saturday Night Burger Special is available for Delivery & Collection Only \nOur Horizon Restaurant is CLOSED on the 05th of December 2021 for Sunday Lunch.  Sitdown\, takeaway\, delivery & collection will not be available.   \nWe apologise for any inconvenience caused \n  \n 
URL:https://langebaanestate.co.za/event/lce-weekly-menu-87/
LOCATION:Langebaan Country Estate – Golf Course
END:VEVENT
BEGIN:VEVENT
DTSTART;VALUE=DATE:20211201
DTEND;VALUE=DATE:20211202
DTSTAMP:20260421T121032
CREATED:20211128T161635Z
LAST-MODIFIED:20211128T161635Z
UID:19375-1638316800-1638403199@langebaanestate.co.za
SUMMARY:REMINDER - PARKRUN - Every Saturday
DESCRIPTION:REMINDER – Our Parkrun is back in action every Saturday – 08h00 \n 
URL:https://langebaanestate.co.za/event/reminder-parkrun-every-saturday-12/
LOCATION:Langebaan Country Estate – Golf Course
END:VEVENT
END:VCALENDAR