BEGIN:VCALENDAR
VERSION:2.0
PRODID:-//Langebaan Country Estate - ECPv6.15.20//NONSGML v1.0//EN
CALSCALE:GREGORIAN
METHOD:PUBLISH
X-WR-CALNAME:Langebaan Country Estate
X-ORIGINAL-URL:https://langebaanestate.co.za
X-WR-CALDESC:Events for Langebaan Country Estate
REFRESH-INTERVAL;VALUE=DURATION:PT1H
X-Robots-Tag:noindex
X-PUBLISHED-TTL:PT1H
BEGIN:VTIMEZONE
TZID:Africa/Johannesburg
BEGIN:STANDARD
TZOFFSETFROM:+0200
TZOFFSETTO:+0200
TZNAME:SAST
DTSTART:20200101T000000
END:STANDARD
END:VTIMEZONE
BEGIN:VEVENT
DTSTART;VALUE=DATE:20211129
DTEND;VALUE=DATE:20211130
DTSTAMP:20260422T161645
CREATED:20211031T155529Z
LAST-MODIFIED:20211031T155529Z
UID:19186-1638144000-1638230399@langebaanestate.co.za
SUMMARY:REMINDER - PARKRUN - Every Saturday
DESCRIPTION:REMINDER – Our Parkrun is back in action every Saturday – 08h00 \n 
URL:https://langebaanestate.co.za/event/reminder-parkrun-every-saturday-8/
LOCATION:Langebaan Country Estate – Golf Course
END:VEVENT
BEGIN:VEVENT
DTSTART;VALUE=DATE:20211129
DTEND;VALUE=DATE:20211130
DTSTAMP:20260422T161645
CREATED:20211121T135551Z
LAST-MODIFIED:20211121T142604Z
UID:19303-1638144000-1638230399@langebaanestate.co.za
SUMMARY:CHRISTMAS EVE DINNER - Friday - 24 December 2021
DESCRIPTION:Christmas Eve Dinner – Friday – 24 December 2021  \nFeast yourself this Christmas with us at LCE – we are open for Sit Down in our Horizon Restaurant for Christmas Eve Dinner from 18h00 – 21h00 \nDon’t miss out\, bookings are essential & going quickly – To book your table   022 772 2112 \n🎄🎁🎄🎁
URL:https://langebaanestate.co.za/event/christmas-eve-dinner-friday-24-december-2021-3/
LOCATION:Langebaan Country Estate – Golf Course
END:VEVENT
BEGIN:VEVENT
DTSTART;VALUE=DATE:20211129
DTEND;VALUE=DATE:20211130
DTSTAMP:20260422T161645
CREATED:20211128T143807Z
LAST-MODIFIED:20211128T163036Z
UID:19345-1638144000-1638230399@langebaanestate.co.za
SUMMARY:LCE Weekly Menu
DESCRIPTION:LCE Weekly Menu : \nThis week we are open for Sit Down in our Horizon Restaurant Monday to Friday from 12h00 – 21h00. \nOpen to the Public for Takeaways\, delivery available on DigiDude | Collection | FREE Delivery on the Estate \nBooking Essential – To book your table or place order for collection or delivery  022 772 2112 \nThank you for your continuous support ! \nPLEASE NOTE : \nLCE CLUB CHAMPS – 04th & 05th of December 2021 \nOur Saturday Night Burger Special is available for Delivery & Collection Only \nOur Horizon Restaurant is CLOSED on the 05th of December 2021 for Sunday Lunch.  Sitdown\, takeaway\, delivery & collection will not be available.   \nWe apologise for any inconvenience caused \n  \n 
URL:https://langebaanestate.co.za/event/lce-weekly-menu-85/
LOCATION:Langebaan Country Estate – Golf Course
END:VEVENT
END:VCALENDAR