BEGIN:VCALENDAR
VERSION:2.0
PRODID:-//Langebaan Country Estate - ECPv6.15.20//NONSGML v1.0//EN
CALSCALE:GREGORIAN
METHOD:PUBLISH
X-WR-CALNAME:Langebaan Country Estate
X-ORIGINAL-URL:https://langebaanestate.co.za
X-WR-CALDESC:Events for Langebaan Country Estate
REFRESH-INTERVAL;VALUE=DURATION:PT1H
X-Robots-Tag:noindex
X-PUBLISHED-TTL:PT1H
BEGIN:VTIMEZONE
TZID:Africa/Johannesburg
BEGIN:STANDARD
TZOFFSETFROM:+0200
TZOFFSETTO:+0200
TZNAME:SAST
DTSTART:20200101T000000
END:STANDARD
END:VTIMEZONE
BEGIN:VEVENT
DTSTART;VALUE=DATE:20211128
DTEND;VALUE=DATE:20211129
DTSTAMP:20260423T163112
CREATED:20211117T100446Z
LAST-MODIFIED:20211117T100446Z
UID:19270-1638057600-1638143999@langebaanestate.co.za
SUMMARY:THE GRAPEVINE STROLL - Langebaan Animal Care
DESCRIPTION:Join us for a fun filled day\, while helping to raise funds for the LAC Shelter. We will have different wine farms joining us on the day to do a tasting as well as a craft beer station. Great raffle prizes up for grabs book your tickets online \nhttps://langebaananimalcare.org/the-grapevine-stroll/
URL:https://langebaanestate.co.za/event/the-grapevine-stroll-langebaan-animal-care-6/
END:VEVENT
END:VCALENDAR