BEGIN:VCALENDAR
VERSION:2.0
PRODID:-//Langebaan Country Estate - ECPv6.15.20//NONSGML v1.0//EN
CALSCALE:GREGORIAN
METHOD:PUBLISH
X-WR-CALNAME:Langebaan Country Estate
X-ORIGINAL-URL:https://langebaanestate.co.za
X-WR-CALDESC:Events for Langebaan Country Estate
REFRESH-INTERVAL;VALUE=DURATION:PT1H
X-Robots-Tag:noindex
X-PUBLISHED-TTL:PT1H
BEGIN:VTIMEZONE
TZID:Africa/Johannesburg
BEGIN:STANDARD
TZOFFSETFROM:+0200
TZOFFSETTO:+0200
TZNAME:SAST
DTSTART:20200101T000000
END:STANDARD
END:VTIMEZONE
BEGIN:VEVENT
DTSTART;VALUE=DATE:20211126
DTEND;VALUE=DATE:20211127
DTSTAMP:20260423T044007
CREATED:20211028T144353Z
LAST-MODIFIED:20211028T144353Z
UID:19155-1637884800-1637971199@langebaanestate.co.za
SUMMARY:UPCOMING EVENT - Ladies Golf Coaching Sessions
DESCRIPTION:UPCOMING EVENT – Ladies Golf Coaching Sessions \nPlease Note :  NO MASK\, NO ENTRY \nAll Covid-19 Protocols to please be adhered to at all times !
URL:https://langebaanestate.co.za/event/upcoming-event-ladies-golf-coaching-sessions-9/
LOCATION:Langebaan Country Estate – Golf Course
END:VEVENT
BEGIN:VEVENT
DTSTART;VALUE=DATE:20211126
DTEND;VALUE=DATE:20211127
DTSTAMP:20260423T044007
CREATED:20211031T155409Z
LAST-MODIFIED:20211031T155409Z
UID:19182-1637884800-1637971199@langebaanestate.co.za
SUMMARY:REMINDER - PARKRUN - Every Saturday
DESCRIPTION:REMINDER – Our Parkrun is back in action every Saturday – 08h00 \n 
URL:https://langebaanestate.co.za/event/reminder-parkrun-every-saturday-7/
LOCATION:Langebaan Country Estate – Golf Course
END:VEVENT
BEGIN:VEVENT
DTSTART;VALUE=DATE:20211126
DTEND;VALUE=DATE:20211127
DTSTAMP:20260423T044007
CREATED:20211117T100324Z
LAST-MODIFIED:20211117T100324Z
UID:19268-1637884800-1637971199@langebaanestate.co.za
SUMMARY:THE GRAPEVINE STROLL - Langebaan Animal Care
DESCRIPTION:A day full of fun\, while helping to raise funds for the LAC Shelter. We will have different wine farms joining us on the day to do a tasting as well as a craft beer station. Great raffle prizes up for grabs book your tickets online \nhttps://langebaananimalcare.org/the-grapevine-stroll/
URL:https://langebaanestate.co.za/event/the-grapevine-stroll-langebaan-animal-care-5/
END:VEVENT
BEGIN:VEVENT
DTSTART;VALUE=DATE:20211126
DTEND;VALUE=DATE:20211127
DTSTAMP:20260423T044007
CREATED:20211121T123409Z
LAST-MODIFIED:20211121T123409Z
UID:19284-1637884800-1637971199@langebaanestate.co.za
SUMMARY:PIZZA NIGHT | LCE Weekly Menu
DESCRIPTION:PIZZA SPECIAL \nBuy 2 or more Pizza’s & receive a FREE Feta & Garlic Focaccia  \n \nPIZZA NIGHT \nLCE WEEKLY MENU \n \nLCE Weekly Menu – We are open for Sit Down in our Horizon Restaurant every Wednesday & Friday from 17h30 – 21h00 & Sunday Lunch from 12h00 – 15h00. \nOpen to the Public for Takeaways\, delivery available on DigiDude | Collection | FREE Delivery on the Estate – Monday\, Tuesday\, Wednesday & Thursday from 12h00 – 18h00  |  Friday & Saturday from 12h00 – 20h00 | Sunday from 12h00 – 15h00 \nBooking Essential – To book your table or place order for collection or delivery  022 772 2112 \nThank you for your continuous support !
URL:https://langebaanestate.co.za/event/pizza-night-lce-weekly-menu-14/
LOCATION:Langebaan Country Estate – Golf Course
END:VEVENT
BEGIN:VEVENT
DTSTART;VALUE=DATE:20211126
DTEND;VALUE=DATE:20211127
DTSTAMP:20260423T044007
CREATED:20211121T125330Z
LAST-MODIFIED:20211121T125330Z
UID:19295-1637884800-1637971199@langebaanestate.co.za
SUMMARY:LCE Month End Braai - Friday - 26 November 2021
DESCRIPTION:LCE Month End Braai – Friday – 26 November 2021  \n 
URL:https://langebaanestate.co.za/event/lce-month-end-braai-friday-26-november-2021/
LOCATION:Langebaan Country Estate – Golf Course
END:VEVENT
BEGIN:VEVENT
DTSTART;VALUE=DATE:20211126
DTEND;VALUE=DATE:20211127
DTSTAMP:20260423T044007
CREATED:20211121T135344Z
LAST-MODIFIED:20211121T142517Z
UID:19301-1637884800-1637971199@langebaanestate.co.za
SUMMARY:CHRISTMAS EVE DINNER - Friday - 24 December 2021
DESCRIPTION:Christmas Eve Dinner – Friday – 24 December 2021  \nFeast yourself this Christmas with us at LCE – we are open for Sit Down in our Horizon Restaurant for Christmas Eve Dinner from 18h00 – 21h00 \nDon’t miss out\, bookings are essential & going quickly – To book your table   022 772 2112 \n🎄🎁🎄🎁
URL:https://langebaanestate.co.za/event/christmas-eve-dinner-friday-24-december-2021-2/
LOCATION:Langebaan Country Estate – Golf Course
END:VEVENT
END:VCALENDAR