BEGIN:VCALENDAR
VERSION:2.0
PRODID:-//Langebaan Country Estate - ECPv6.15.20//NONSGML v1.0//EN
CALSCALE:GREGORIAN
METHOD:PUBLISH
X-WR-CALNAME:Langebaan Country Estate
X-ORIGINAL-URL:https://langebaanestate.co.za
X-WR-CALDESC:Events for Langebaan Country Estate
REFRESH-INTERVAL;VALUE=DURATION:PT1H
X-Robots-Tag:noindex
X-PUBLISHED-TTL:PT1H
BEGIN:VTIMEZONE
TZID:Africa/Johannesburg
BEGIN:STANDARD
TZOFFSETFROM:+0200
TZOFFSETTO:+0200
TZNAME:SAST
DTSTART:20200101T000000
END:STANDARD
END:VTIMEZONE
BEGIN:VEVENT
DTSTART;VALUE=DATE:20211124
DTEND;VALUE=DATE:20211125
DTSTAMP:20260422T101430
CREATED:20211028T144315Z
LAST-MODIFIED:20211028T144315Z
UID:19153-1637712000-1637798399@langebaanestate.co.za
SUMMARY:REMINDER - Ladies Golf Coaching Sessions
DESCRIPTION:REMINDER – Ladies Golf Coaching Sessions \nPlease Note :  NO MASK\, NO ENTRY \nAll Covid-19 Protocols to please be adhered to at all times !
URL:https://langebaanestate.co.za/event/reminder-ladies-golf-coaching-sessions-3/
LOCATION:Langebaan Country Estate – Golf Course
END:VEVENT
BEGIN:VEVENT
DTSTART;VALUE=DATE:20211124
DTEND;VALUE=DATE:20211125
DTSTAMP:20260422T101430
CREATED:20211117T100253Z
LAST-MODIFIED:20211117T100253Z
UID:19266-1637712000-1637798399@langebaanestate.co.za
SUMMARY:THE GRAPEVINE STROLL - Langebaan Animal Care
DESCRIPTION:A day full of fun\, while helping to raise funds for the LAC Shelter. We will have different wine farms joining us on the day to do a tasting as well as a craft beer station. Great raffle prizes up for grabs book your tickets online \nhttps://langebaananimalcare.org/the-grapevine-stroll/
URL:https://langebaanestate.co.za/event/the-grapevine-stroll-langebaan-animal-care-4/
END:VEVENT
BEGIN:VEVENT
DTSTART;VALUE=DATE:20211124
DTEND;VALUE=DATE:20211125
DTSTAMP:20260422T101430
CREATED:20211121T123101Z
LAST-MODIFIED:20211121T123101Z
UID:19278-1637712000-1637798399@langebaanestate.co.za
SUMMARY:LCE Weekly Menu
DESCRIPTION:LCE Weekly Menu – We are open for Sit Down in our Horizon Restaurant every Wednesday & Friday from 17h30 – 21h00 & Sunday Lunch from 12h00 – 15h00. \nOpen to the Public for Takeaways\, delivery available on DigiDude | Collection | FREE Delivery on the Estate – Monday\, Tuesday\, Wednesday & Thursday from 12h00 – 18h00  |  Friday & Saturday from 12h00 – 20h00 | Sunday from 12h00 – 15h00 \nBooking Essential – To book your table or place order for collection or delivery  022 772 2112 \nThank you for your continuous support !
URL:https://langebaanestate.co.za/event/lce-weekly-menu-82/
LOCATION:Langebaan Country Estate – Golf Course
END:VEVENT
BEGIN:VEVENT
DTSTART;VALUE=DATE:20211124
DTEND;VALUE=DATE:20211125
DTSTAMP:20260422T101430
CREATED:20211121T125253Z
LAST-MODIFIED:20211121T125253Z
UID:19293-1637712000-1637798399@langebaanestate.co.za
SUMMARY:UPCOMING EVENT - LCE Month End Braai - Friday - 26 November 2021
DESCRIPTION:Upcoming Event – LCE Month End Braai – Friday – 26 November 2021  \n 
URL:https://langebaanestate.co.za/event/upcoming-event-lce-month-end-braai-friday-26-november-2021/
LOCATION:Langebaan Country Estate – Golf Course
END:VEVENT
END:VCALENDAR