BEGIN:VCALENDAR
VERSION:2.0
PRODID:-//Langebaan Country Estate - ECPv6.15.20//NONSGML v1.0//EN
CALSCALE:GREGORIAN
METHOD:PUBLISH
X-WR-CALNAME:Langebaan Country Estate
X-ORIGINAL-URL:https://langebaanestate.co.za
X-WR-CALDESC:Events for Langebaan Country Estate
REFRESH-INTERVAL;VALUE=DURATION:PT1H
X-Robots-Tag:noindex
X-PUBLISHED-TTL:PT1H
BEGIN:VTIMEZONE
TZID:Africa/Johannesburg
BEGIN:STANDARD
TZOFFSETFROM:+0200
TZOFFSETTO:+0200
TZNAME:SAST
DTSTART:20200101T000000
END:STANDARD
END:VTIMEZONE
BEGIN:VEVENT
DTSTART;VALUE=DATE:20211025
DTEND;VALUE=DATE:20211026
DTSTAMP:20260422T112817
CREATED:20211001T164116Z
LAST-MODIFIED:20211001T164116Z
UID:18945-1635120000-1635206399@langebaanestate.co.za
SUMMARY:UPCOMING EVENT - Ladies Golf Coaching Sessions
DESCRIPTION:REMINDER – Ladies Golf Coaching Sessions \nPlease Note :  NO MASK\, NO ENTRY \nAll Covid-19 Protocols to please be adhered to at all times !
URL:https://langebaanestate.co.za/event/upcoming-event-ladies-golf-coaching-sessions-8/
LOCATION:Langebaan Country Estate – Golf Course
END:VEVENT
BEGIN:VEVENT
DTSTART;VALUE=DATE:20211025
DTEND;VALUE=DATE:20211026
DTSTAMP:20260422T112817
CREATED:20211018T084352Z
LAST-MODIFIED:20211019T115933Z
UID:19058-1635120000-1635206399@langebaanestate.co.za
SUMMARY:BINGO EVENING
DESCRIPTION:BINGO EVENING \nPlease join us for a fun filled night of BINGO \n\n* Thursday – 28 October 2021 at 19h00\n* Venue : Langebaan Country Estate – Horizon Restaurant\n* RSVP – by the 25 October 2021 – 082 441 2585\n\n  \n \n  \n  \n  \n 
URL:https://langebaanestate.co.za/event/bingo-evening-3/
LOCATION:Langebaan Country Estate – Golf Course
END:VEVENT
BEGIN:VEVENT
DTSTART;VALUE=DATE:20211025
DTEND;VALUE=DATE:20211026
DTSTAMP:20260422T112817
CREATED:20211018T085045Z
LAST-MODIFIED:20211018T085045Z
UID:19066-1635120000-1635206399@langebaanestate.co.za
SUMMARY:BOSS BREAKFAST
DESCRIPTION:BOSS BREAKFAST \n  \n \n  \n  \n  \n 
URL:https://langebaanestate.co.za/event/boss-breakfast-3/
LOCATION:Langebaan Country Estate – Golf Course
END:VEVENT
BEGIN:VEVENT
DTSTART;VALUE=DATE:20211025
DTEND;VALUE=DATE:20211026
DTSTAMP:20260422T112817
CREATED:20211023T151335Z
LAST-MODIFIED:20211023T151335Z
UID:19091-1635120000-1635206399@langebaanestate.co.za
SUMMARY:LCE Weekly Menu
DESCRIPTION:LCE Weekly Menu – We are open for Sit Down in our Horizon Restaurant every Wednesday & Friday from 17h30 – 21h00 & Sunday Lunch from 12h00 – 15h00. \nOpen to the Public for Takeaways\, delivery available on DigiDude | Collection | FREE Delivery on the Estate – Monday\, Tuesday\, Wednesday & Thursday from 12h00 – 18h00  |  Friday & Saturday from 12h00 – 20h00 | Sunday from 12h00 – 15h00 \nBooking Essential – To book your table or place order for collection or delivery  022 772 2112 \nThank you for your continuous support !
URL:https://langebaanestate.co.za/event/lce-weekly-menu-60/
LOCATION:Langebaan Country Estate – Golf Course
END:VEVENT
END:VCALENDAR