BEGIN:VCALENDAR
VERSION:2.0
PRODID:-//Langebaan Country Estate - ECPv6.15.20//NONSGML v1.0//EN
CALSCALE:GREGORIAN
METHOD:PUBLISH
X-WR-CALNAME:Langebaan Country Estate
X-ORIGINAL-URL:https://langebaanestate.co.za
X-WR-CALDESC:Events for Langebaan Country Estate
REFRESH-INTERVAL;VALUE=DURATION:PT1H
X-Robots-Tag:noindex
X-PUBLISHED-TTL:PT1H
BEGIN:VTIMEZONE
TZID:Africa/Johannesburg
BEGIN:STANDARD
TZOFFSETFROM:+0200
TZOFFSETTO:+0200
TZNAME:SAST
DTSTART:20200101T000000
END:STANDARD
END:VTIMEZONE
BEGIN:VEVENT
DTSTART;VALUE=DATE:20211023
DTEND;VALUE=DATE:20211024
DTSTAMP:20260422T034043
CREATED:20211001T164024Z
LAST-MODIFIED:20211001T164024Z
UID:18943-1634947200-1635033599@langebaanestate.co.za
SUMMARY:REMINDER - Ladies Golf Coaching Sessions
DESCRIPTION:REMINDER – Ladies Golf Coaching Sessions \nPlease Note :  NO MASK\, NO ENTRY \nAll Covid-19 Protocols to please be adhered to at all times !
URL:https://langebaanestate.co.za/event/reminder-ladies-golf-coaching-sessions/
LOCATION:Langebaan Country Estate – Golf Course
END:VEVENT
BEGIN:VEVENT
DTSTART;VALUE=DATE:20211023
DTEND;VALUE=DATE:20211024
DTSTAMP:20260422T034043
CREATED:20211017T141913Z
LAST-MODIFIED:20211017T142213Z
UID:19040-1634947200-1635033599@langebaanestate.co.za
SUMMARY:BURGER NIGHT | LCE Weekly Menu
DESCRIPTION:BURGER SPECIAL – Buy 1 Get 1 FREE Burger Special – Beef | Chicken available (served with Fries) \nBURGER NIGHT \n \nLCE WEEKLY MENU \n \nLCE Weekly Menu – We are open for Sit Down in our Horizon Restaurant every Wednesday & Friday from 17h30 – 21h00 & Sunday Lunch from 12h00 – 15h00. \nOpen to the Public for Takeaways\, delivery available on DigiDude | Collection | FREE Delivery on the Estate – Monday\, Tuesday\, Wednesday & Thursday from 12h00 – 18h00  |  Friday & Saturday from 12h00 – 20h00 | Sunday from 12h00 – 15h00 \nBooking Essential – To book your table or place order for collection or delivery  022 772 2112 \nThank you for your continuous support !
URL:https://langebaanestate.co.za/event/burger-night-lce-weekly-menu-3/
LOCATION:Langebaan Country Estate – Golf Course
END:VEVENT
END:VCALENDAR