BEGIN:VCALENDAR
VERSION:2.0
PRODID:-//Langebaan Country Estate - ECPv6.15.20//NONSGML v1.0//EN
CALSCALE:GREGORIAN
METHOD:PUBLISH
X-ORIGINAL-URL:https://langebaanestate.co.za
X-WR-CALDESC:Events for Langebaan Country Estate
REFRESH-INTERVAL;VALUE=DURATION:PT1H
X-Robots-Tag:noindex
X-PUBLISHED-TTL:PT1H
BEGIN:VTIMEZONE
TZID:Africa/Johannesburg
BEGIN:STANDARD
TZOFFSETFROM:+0200
TZOFFSETTO:+0200
TZNAME:SAST
DTSTART:20200101T000000
END:STANDARD
END:VTIMEZONE
BEGIN:VEVENT
DTSTART;VALUE=DATE:20211022
DTEND;VALUE=DATE:20211023
DTSTAMP:20260422T161613
CREATED:20211001T163937Z
LAST-MODIFIED:20211001T163937Z
UID:18941-1634860800-1634947199@langebaanestate.co.za
SUMMARY:UPCOMING EVENT - Ladies Golf Coaching Sessions
DESCRIPTION:REMINDER – Ladies Golf Coaching Sessions \nPlease Note :  NO MASK\, NO ENTRY \nAll Covid-19 Protocols to please be adhered to at all times !
URL:https://langebaanestate.co.za/event/upcoming-event-ladies-golf-coaching-sessions-7/
LOCATION:Langebaan Country Estate – Golf Course
END:VEVENT
BEGIN:VEVENT
DTSTART;VALUE=DATE:20211022
DTEND;VALUE=DATE:20211023
DTSTAMP:20260422T161613
CREATED:20211001T165316Z
LAST-MODIFIED:20211001T165316Z
UID:18959-1634860800-1634947199@langebaanestate.co.za
SUMMARY:UPCOMING EVENT - LCE MTB  Club - MTB FUN RIDE
DESCRIPTION:REMINDER – LCE MTB Club – MTB FUN RIDE \nPlease Note :  NO MASK\, NO ENTRY \nAll Covid-19 Protocols to please be adhered to at all times !
URL:https://langebaanestate.co.za/event/upcoming-event-lce-mtb-club-mtb-fun-ride-12/
LOCATION:Langebaan Country Estate – Golf Course
END:VEVENT
BEGIN:VEVENT
DTSTART;VALUE=DATE:20211022
DTEND;VALUE=DATE:20211023
DTSTAMP:20260422T161613
CREATED:20211017T132859Z
LAST-MODIFIED:20211017T140120Z
UID:19037-1634860800-1634947199@langebaanestate.co.za
SUMMARY:PIZZA NIGHT | LCE Weekly Menu
DESCRIPTION:PIZZA SPECIAL \nBuy 2 or more Pizza’s & receive a FREE Garlic & Feta Focaccia  \n \nPIZZA NIGHT \nLCE WEEKLY MENU \n \nLCE Weekly Menu – We are open for Sit Down in our Horizon Restaurant every Wednesday & Friday from 17h30 – 21h00 & Sunday Lunch from 12h00 – 15h00. \nOpen to the Public for Takeaways\, delivery available on DigiDude | Collection | FREE Delivery on the Estate – Monday\, Tuesday\, Wednesday & Thursday from 12h00 – 18h00  |  Friday & Saturday from 12h00 – 20h00 | Sunday from 12h00 – 15h00 \nBooking Essential – To book your table or place order for collection or delivery  022 772 2112 \nThank you for your continuous support !
URL:https://langebaanestate.co.za/event/pizza-night-lce-weekly-menu-9/
LOCATION:Langebaan Country Estate – Golf Course
END:VEVENT
BEGIN:VEVENT
DTSTART;VALUE=DATE:20211022
DTEND;VALUE=DATE:20211023
DTSTAMP:20260422T161613
CREATED:20211018T084312Z
LAST-MODIFIED:20211019T115850Z
UID:19056-1634860800-1634947199@langebaanestate.co.za
SUMMARY:BINGO EVENING
DESCRIPTION:BINGO EVENING \nPlease join us for a fun filled night of BINGO \n\n* Thursday – 28 October 2021 at 19h00\n* Venue : Langebaan Country Estate – Horizon Restaurant\n* RSVP – by the 25 October 2021 – 082 441 2585\n\n  \n \n  \n  \n  \n 
URL:https://langebaanestate.co.za/event/bingo-evening-2/
LOCATION:Langebaan Country Estate – Golf Course
END:VEVENT
BEGIN:VEVENT
DTSTART;VALUE=DATE:20211022
DTEND;VALUE=DATE:20211023
DTSTAMP:20260422T161613
CREATED:20211018T084846Z
LAST-MODIFIED:20211018T084846Z
UID:19064-1634860800-1634947199@langebaanestate.co.za
SUMMARY:BOSS BREAKFAST
DESCRIPTION:BOSS BREAKFAST \n  \n \n  \n  \n  \n 
URL:https://langebaanestate.co.za/event/boss-breakfast-2/
LOCATION:Langebaan Country Estate – Golf Course
END:VEVENT
END:VCALENDAR